BEGIN:VCALENDAR
VERSION:2.0
PRODID:-//CSUMChurch - ECPv6.13.2.1//NONSGML v1.0//EN
CALSCALE:GREGORIAN
METHOD:PUBLISH
X-WR-CALNAME:CSUMChurch
X-ORIGINAL-URL:https://csumchurch.com
X-WR-CALDESC:Events for CSUMChurch
REFRESH-INTERVAL;VALUE=DURATION:PT1H
X-Robots-Tag:noindex
X-PUBLISHED-TTL:PT1H
BEGIN:VTIMEZONE
TZID:America/Los_Angeles
BEGIN:DAYLIGHT
TZOFFSETFROM:-0800
TZOFFSETTO:-0700
TZNAME:PDT
DTSTART:20250309T100000
END:DAYLIGHT
BEGIN:STANDARD
TZOFFSETFROM:-0700
TZOFFSETTO:-0800
TZNAME:PST
DTSTART:20251102T090000
END:STANDARD
END:VTIMEZONE
BEGIN:VEVENT
DTSTART;TZID=America/Los_Angeles:20251109T100000
DTEND;TZID=America/Los_Angeles:20251109T230000
DTSTAMP:20260423T002042
CREATED:20251108T072533Z
LAST-MODIFIED:20251108T072623Z
UID:11695-1762682400-1762729200@csumchurch.com
SUMMARY:Let Me Walk with Thee
DESCRIPTION:Crystal Springs United Methodist Church warmly invites you to our 10 AM worship service this Sunday. Come and enjoy uplifting music with our choir\, featuring the anthem  “Let Me Walk with Thee.” We’re delighted to welcome back our Pastor Katai’i Tapa\, who will share a powerful message based on 2 Thessalonians 2:1–5\, 13–17\, reminding us that “Faith Is Grounded in God\, Who Transforms\, Empowers\, Renews Creation.” We hope you’ll join us as we come together in Christ and celebrate as a community of faith. \nSHARE this Page via your:EmailFacebookTwitterMoreLinkedInPinterestRedditTumblr
URL:https://csumchurch.com/event/let-me-walk-with-thee/
LOCATION:CA
ATTACH;FMTTYPE=image/png:https://csumchurch.com/wp-content/uploads/2025/11/image.png
END:VEVENT
END:VCALENDAR