BEGIN:VCALENDAR
VERSION:2.0
PRODID:-//CSUMChurch - ECPv6.13.2.1//NONSGML v1.0//EN
CALSCALE:GREGORIAN
METHOD:PUBLISH
X-WR-CALNAME:CSUMChurch
X-ORIGINAL-URL:https://csumchurch.com
X-WR-CALDESC:Events for CSUMChurch
REFRESH-INTERVAL;VALUE=DURATION:PT1H
X-Robots-Tag:noindex
X-PUBLISHED-TTL:PT1H
BEGIN:VTIMEZONE
TZID:America/Los_Angeles
BEGIN:DAYLIGHT
TZOFFSETFROM:-0800
TZOFFSETTO:-0700
TZNAME:PDT
DTSTART:20250309T100000
END:DAYLIGHT
BEGIN:STANDARD
TZOFFSETFROM:-0700
TZOFFSETTO:-0800
TZNAME:PST
DTSTART:20251102T090000
END:STANDARD
END:VTIMEZONE
BEGIN:VEVENT
DTSTART;TZID=America/Los_Angeles:20251130T100000
DTEND;TZID=America/Los_Angeles:20251130T230000
DTSTAMP:20260422T224627
CREATED:20251130T120247Z
LAST-MODIFIED:20251130T120247Z
UID:11753-1764496800-1764543600@csumchurch.com
SUMMARY:Stay Ready So You Don’t Have to Get Ready
DESCRIPTION:Come join us this Sunday\, November 30th at 10 AM at Crystal Springs United Methodist Church as we begin the First Sunday of Advent\, lighting the Candle of Hope\, led by the Brouwer Family. We will gather in worship as our children share special music\, singing “I Have Decided to Follow Jesus.” We are also blessed to have William Orecchia sharing the Word\, preaching from Matthew 24:36–44 on the theme:“Stay Ready So You Don’t Have to Get Ready.” It will be a meaningful message as we enter this sacred season of Advent. Advent is sacred in the Christian tradition because it is a season of preparation\, reflection\, and anticipation. It marks the beginning of the Christian year and invites us to prepare our hearts for\, The celebration of Jesus’ birth “Christmas”\, and the coming of Christ in a spiritual and future sense. \nFollowing the service\, we invite everyone to stay as we break bread together and enjoy our Thanksgiving Remix: The Great Leftover Meal\, a wonderful time of fellowship\, gratitude\, and community as we celebrate Advent as a church family.God bless you\, and we hope to see you this Sunday! \nSHARE this Page via your:EmailFacebookTwitterMoreLinkedInPinterestRedditTumblr
URL:https://csumchurch.com/event/stay-ready-so-you-dont-have-to-get-ready/
LOCATION:Crystal Springs United Methodist Church\, 2145 Bunker Hill Drive\, San Mateo\, CA\, 94402\, United States
ATTACH;FMTTYPE=image/png:https://csumchurch.com/wp-content/uploads/2025/11/unnamed.png
END:VEVENT
END:VCALENDAR