BEGIN:VCALENDAR
VERSION:2.0
PRODID:-//CSUMChurch - ECPv6.13.2.1//NONSGML v1.0//EN
CALSCALE:GREGORIAN
METHOD:PUBLISH
X-WR-CALNAME:CSUMChurch
X-ORIGINAL-URL:https://csumchurch.com
X-WR-CALDESC:Events for CSUMChurch
REFRESH-INTERVAL;VALUE=DURATION:PT1H
X-Robots-Tag:noindex
X-PUBLISHED-TTL:PT1H
BEGIN:VTIMEZONE
TZID:America/Los_Angeles
BEGIN:DAYLIGHT
TZOFFSETFROM:-0800
TZOFFSETTO:-0700
TZNAME:PDT
DTSTART:20250309T100000
END:DAYLIGHT
BEGIN:STANDARD
TZOFFSETFROM:-0700
TZOFFSETTO:-0800
TZNAME:PST
DTSTART:20251102T090000
END:STANDARD
END:VTIMEZONE
BEGIN:VEVENT
DTSTART;TZID=America/Los_Angeles:20251221T100000
DTEND;TZID=America/Los_Angeles:20251221T230000
DTSTAMP:20260422T224707
CREATED:20251224T195938Z
LAST-MODIFIED:20251224T195938Z
UID:11773-1766311200-1766358000@csumchurch.com
SUMMARY:The Birth of Jesus\, the Messiah
DESCRIPTION:Please join us on Sunday\, December 21st  at 10:00 am. As we gather for the Fourth Sunday of Advent\, the Sunday of Love\, led by the Faanati Family. We will worship together through special music from our choir\, hear the Scripture reading from Matthew 1:18–25\, and receive the message from Pastor Kata’i’i Tapa\, “The Birth of Jesus\, the Messiah.” We invite you to come and worship with us as we gather together as a church family and community\, celebrating the love of Christ during this Advent season. Please join us for fellowship following the service. All are welcome\, we look forward to worshiping with you. \n\nSHARE this Page via your:EmailFacebookTwitterMoreLinkedInPinterestRedditTumblr
URL:https://csumchurch.com/event/the-birth-of-jesus-the-messiah/
LOCATION:Crystal Springs United Methodist Church\, 2145 Bunker Hill Drive\, San Mateo\, CA\, 94402\, United States
CATEGORIES:Sunday
ATTACH;FMTTYPE=image/png:https://csumchurch.com/wp-content/uploads/2025/12/unnamed-2.png
END:VEVENT
END:VCALENDAR