BEGIN:VCALENDAR
VERSION:2.0
PRODID:-//CSUMChurch - ECPv6.13.2.1//NONSGML v1.0//EN
CALSCALE:GREGORIAN
METHOD:PUBLISH
X-ORIGINAL-URL:https://csumchurch.com
X-WR-CALDESC:Events for CSUMChurch
REFRESH-INTERVAL;VALUE=DURATION:PT1H
X-Robots-Tag:noindex
X-PUBLISHED-TTL:PT1H
BEGIN:VTIMEZONE
TZID:America/Los_Angeles
BEGIN:DAYLIGHT
TZOFFSETFROM:-0800
TZOFFSETTO:-0700
TZNAME:PDT
DTSTART:20240310T100000
END:DAYLIGHT
BEGIN:STANDARD
TZOFFSETFROM:-0700
TZOFFSETTO:-0800
TZNAME:PST
DTSTART:20241103T090000
END:STANDARD
END:VTIMEZONE
BEGIN:VEVENT
DTSTART;TZID=America/Los_Angeles:20241006T100000
DTEND;TZID=America/Los_Angeles:20241006T110000
DTSTAMP:20260424T011758
CREATED:20241005T211348Z
LAST-MODIFIED:20241005T211348Z
UID:11352-1728208800-1728212400@csumchurch.com
SUMMARY:Let's be together at the Lord's Table
DESCRIPTION:We invite you to join us this coming Sunday at Crystal Springs United Methodist Church in the Highlands  as we gather to worship and to observe World Communion Sunday.  Pastor Tapa will preach on the topic  “Let’s  Be Together at the Lord’s Table\,” based on the Scripture in the Gospel according to Luke  22: 7—20.   This Sunday’s musical offering will be provided by our choir singing “ Come to the Banquet” and by pianist Jonathan Wing\, who will play two solo pieces.      After the service our fellowship continues in the Fireside Room with coffee and refreshments. \nCome join our Crystal Springs family on Sunday at 10 AM! \nSHARE this Page via your:EmailFacebookTwitterMoreLinkedInPinterestRedditTumblr
URL:https://csumchurch.com/event/lets-be-together-at-the-lords-table/
LOCATION:Crystal Springs United Methodist Church\, 2145 Bunker Hill Drive\, San Mateo\, CA\, 94402\, United States
CATEGORIES:Sunday
ATTACH;FMTTYPE=image/png:https://csumchurch.com/wp-content/uploads/2024/10/Lords-Table.png
END:VEVENT
BEGIN:VEVENT
DTSTART;VALUE=DATE:20241013
DTEND;VALUE=DATE:20241014
DTSTAMP:20260424T011758
CREATED:20241013T102446Z
LAST-MODIFIED:20241013T102446Z
UID:11357-1728777600-1728863999@csumchurch.com
SUMMARY:Choose Your Inheritance
DESCRIPTION:We hope that you will join us for worship at Crystal Springs United Methodist on October 13\,  the 21stSunday after Pentecost.   We will welcome guest preacher Sisifa Mafi\, who will preach on the theme “Choose Your Inheritance Wisely:  Your Treasure or Heaven\,”  based on the Scripture in Mark 10: 17-31.  Our accompanist\, jazz pianist Jeffrey Chin\, will play his own arrangements of the beloved hymns  “Jesus Loves Me\,” “Fairest Lord Jesus\,” and “Leaning on the Everlasting Arms\,” and our choir directed by Bill Alley will sing “O Taste and See.”  After the service\, we will gather for refreshments and fellowship in our Fireside Room. \nCome join our Crystal Springs family on Sunday! \nSHARE this Page via your:EmailFacebookTwitterMoreLinkedInPinterestRedditTumblr
URL:https://csumchurch.com/event/choose-your-inheritance/
LOCATION:CA
CATEGORIES:Sunday
ATTACH;FMTTYPE=image/png:https://csumchurch.com/wp-content/uploads/2024/10/Inheritance.png
END:VEVENT
BEGIN:VEVENT
DTSTART;TZID=America/Los_Angeles:20241027T100000
DTEND;TZID=America/Los_Angeles:20241027T110000
DTSTAMP:20260424T011758
CREATED:20241025T211906Z
LAST-MODIFIED:20241025T211906Z
UID:11371-1730023200-1730026800@csumchurch.com
SUMMARY:Go! Your Faith Has Made You Well
DESCRIPTION:We hope that you can join us for worship at Crystal Springs UMC on October 27th \, the 23rd Sunday after Pentecost.  Our pastor\, Kata’i’I Tapa\, will preach on the theme “Go! Your Faith Has Made You Well\,” based on the Scripture in Mark: 46-52.  We have beautiful music to look forward to:  an arrangement of “There Is a Balm in Gilead\,” performed by our accompanist Jean Cole;  “I’m Gonna Live So God Can Use Me\,” sung by our choir under the direction of Bill Alley; and two pieces\, including “Thine Is the Glory\,” performed by the Crystal Springs Handbell Choir. After the service we will gather for fellowship and refreshments in the Fireside Room. \nWe hope to welcome you into our Crystal Springs family on Sunday\, beginning at 10 AM! \nSHARE this Page via your:EmailFacebookTwitterMoreLinkedInPinterestRedditTumblr
URL:https://csumchurch.com/event/go-your-faith-has-made-you-well/
LOCATION:CA
CATEGORIES:Sunday
ATTACH;FMTTYPE=image/png:https://csumchurch.com/wp-content/uploads/2024/10/Go-Faith.png
END:VEVENT
END:VCALENDAR