BEGIN:VCALENDAR
VERSION:2.0
PRODID:-//CSUMChurch - ECPv6.13.2.1//NONSGML v1.0//EN
CALSCALE:GREGORIAN
METHOD:PUBLISH
X-ORIGINAL-URL:https://csumchurch.com
X-WR-CALDESC:Events for CSUMChurch
REFRESH-INTERVAL;VALUE=DURATION:PT1H
X-Robots-Tag:noindex
X-PUBLISHED-TTL:PT1H
BEGIN:VTIMEZONE
TZID:America/Los_Angeles
BEGIN:DAYLIGHT
TZOFFSETFROM:-0800
TZOFFSETTO:-0700
TZNAME:PDT
DTSTART:20250309T100000
END:DAYLIGHT
BEGIN:STANDARD
TZOFFSETFROM:-0700
TZOFFSETTO:-0800
TZNAME:PST
DTSTART:20251102T090000
END:STANDARD
END:VTIMEZONE
BEGIN:VEVENT
DTSTART;TZID=America/Los_Angeles:20250105T100000
DTEND;TZID=America/Los_Angeles:20250105T110000
DTSTAMP:20260423T202101
CREATED:20250104T033247Z
LAST-MODIFIED:20250104T033247Z
UID:11457-1736071200-1736074800@csumchurch.com
SUMMARY:Our Mission Journey of 2025
DESCRIPTION:Come join us on Sunday\, January 5th\, when we will observe Epiphany Sunday and celebrate \nCommunion.  We will once more sing Christmas carols and hear the Scripture describing the visit of the Magi to the Christ Child.  Pianist Jonathan Wing will play three solos\, including arrangements of “Mary\, Did You Know” and “The First Noel\,”  and Pastor Kata’i’i will preach on the topic “Our Mission Journey of 2025.” \nAfter the service we will gather in the Fireside Room for a potluck meal to celebrate the beginning of the new year. \nPlease join our Crystal Springs family for this special day! \nSHARE this Page via your:EmailFacebookTwitterMoreLinkedInPinterestRedditTumblr
URL:https://csumchurch.com/event/our-mission-journey-of-2025/
LOCATION:Crystal Springs United Methodist Church\, 2145 Bunker Hill Drive\, San Mateo\, CA\, 94402\, United States
CATEGORIES:Sunday
ATTACH;FMTTYPE=image/png:https://csumchurch.com/wp-content/uploads/2025/01/2025.png
END:VEVENT
BEGIN:VEVENT
DTSTART;TZID=America/Los_Angeles:20250112T100000
DTEND;TZID=America/Los_Angeles:20250112T110000
DTSTAMP:20260423T202101
CREATED:20250111T000534Z
LAST-MODIFIED:20250111T000656Z
UID:11462-1736676000-1736679600@csumchurch.com
SUMMARY:Why Was Jesus Baptized?
DESCRIPTION:On Sunday\, January 12\, at Crystal Springs UMC we will celebrate the First Sunday after Epiphany and the Baptism of the Lord.  Our guest preacher\, Taniela Fukofuka\, will speak on the topic “Why Was Jesus Baptized?” based on the Scripture in Luke 3\, which describes John’s baptism of Jesus.  Our choir\, under the direction of Bill Alley\, will sing “Spirit of God\, Descend Upon My Heart\,” and jazz pianist Jeffrey Chin will play his own arrangements of three well-known hymns. \nAfter the service we will gather for fellowship and refreshments in the Fireside Room. \nWe hope to welcome you as part of our Crystal Springs family this coming Sunday. \nSee you then! \nSHARE this Page via your:EmailFacebookTwitterMoreLinkedInPinterestRedditTumblr
URL:https://csumchurch.com/event/why-was-jesus-baptized/
LOCATION:CA
CATEGORIES:Sunday
ATTACH;FMTTYPE=image/png:https://csumchurch.com/wp-content/uploads/2025/01/Jesus-Baptized.png
END:VEVENT
END:VCALENDAR