BEGIN:VCALENDAR
VERSION:2.0
PRODID:-//CSUMChurch - ECPv6.13.2.1//NONSGML v1.0//EN
CALSCALE:GREGORIAN
METHOD:PUBLISH
X-ORIGINAL-URL:https://csumchurch.com
X-WR-CALDESC:Events for CSUMChurch
REFRESH-INTERVAL;VALUE=DURATION:PT1H
X-Robots-Tag:noindex
X-PUBLISHED-TTL:PT1H
BEGIN:VTIMEZONE
TZID:America/Los_Angeles
BEGIN:DAYLIGHT
TZOFFSETFROM:-0800
TZOFFSETTO:-0700
TZNAME:PDT
DTSTART:20250309T100000
END:DAYLIGHT
BEGIN:STANDARD
TZOFFSETFROM:-0700
TZOFFSETTO:-0800
TZNAME:PST
DTSTART:20251102T090000
END:STANDARD
END:VTIMEZONE
BEGIN:VEVENT
DTSTART;TZID=America/Los_Angeles:20250504T103000
DTEND;TZID=America/Los_Angeles:20250504T110000
DTSTAMP:20260423T140715
CREATED:20250429T190743Z
LAST-MODIFIED:20250429T190743Z
UID:11557-1746354600-1746356400@csumchurch.com
SUMMARY:Special Service at a Special Time
DESCRIPTION:Join us at Crystal Springs UMC on May 4th for a very special event at a special time– 10:30 AM\, this Sunday only–when we will celebrate White Sunday.  Our children will present scriptural readings and music\, and we will share in the Lord’s Supper.  After the service\, please stay for a lovely meal prepared by the parents and teachers. \n   You won’t want to miss White Sunday at Crystal Springs!  And don’t forget to wear white! \nSHARE this Page via your:EmailFacebookTwitterMoreLinkedInPinterestRedditTumblr
URL:https://csumchurch.com/event/special-service-at-a-special-time/
LOCATION:Crystal Springs United Methodist Church\, 2145 Bunker Hill Drive\, San Mateo\, CA\, 94402\, United States
CATEGORIES:Sunday
ATTACH;FMTTYPE=image/png:https://csumchurch.com/wp-content/uploads/2025/04/Special.png
END:VEVENT
BEGIN:VEVENT
DTSTART;TZID=America/Los_Angeles:20250511T100000
DTEND;TZID=America/Los_Angeles:20250511T110000
DTSTAMP:20260423T140715
CREATED:20250510T165412Z
LAST-MODIFIED:20250510T170637Z
UID:11563-1746957600-1746961200@csumchurch.com
SUMMARY:You Are the Sheep of God
DESCRIPTION:We invite you to join us at 10 AM on May 11th\, when we will celebrate the Fourth Sunday of Easter.  Pastor Tapa will preach on the subject “You Are the Sheep of God\,” based on the Scripture in John 10: 22—30\, and our choir under the direction of Bill Alley will sing a setting of “Dona Nobis Pacem.” Once again we welcome jazz pianist Jeffrey Chin\, who  will play his arrangements of three well-known hymn tunes.  And after the service\, we will gather for fellowship and refreshments in the Fireside Room. \nWe hope to see you on Sunday at Crystal Springs UMC! \nSHARE this Page via your:EmailFacebookTwitterMoreLinkedInPinterestRedditTumblr
URL:https://csumchurch.com/event/you-are-the-sheep-of-god/
LOCATION:Crystal Springs United Methodist Church\, 2145 Bunker Hill Drive\, San Mateo\, CA\, 94402\, United States
CATEGORIES:Sunday
ATTACH;FMTTYPE=image/png:https://csumchurch.com/wp-content/uploads/2025/05/Sheep-of-God.png
END:VEVENT
BEGIN:VEVENT
DTSTART;TZID=America/Los_Angeles:20250518T100000
DTEND;TZID=America/Los_Angeles:20250518T110000
DTSTAMP:20260423T140715
CREATED:20250524T201253Z
LAST-MODIFIED:20250524T202513Z
UID:11576-1747562400-1747566000@csumchurch.com
SUMMARY:Repentance Leads to Life
DESCRIPTION:We hope you will be with us on Sunday\, May 18th\, when we gather for worship at Crystal Springs UMC.  Our pastor\, Kata’i’i Tapa\, will preach on the topic “Repentance Leads to Life\,” based on the Scripture in Acts 11:1—18.  There will be lots of special music:  our handbell choir will play two pieces\, one including chimes\, and jazz pianist Jeffrey Chin will play his arrangements of two familiar hymns.  After the service we will gather for fellowship and refreshments in the Fireside Room.   \n   Come be part of our Crystal Springs family on Sunday! \nSHARE this Page via your:EmailFacebookTwitterMoreLinkedInPinterestRedditTumblr
URL:https://csumchurch.com/event/repentance-leads-to-life/
LOCATION:CA
CATEGORIES:Sunday
ATTACH;FMTTYPE=image/png:https://csumchurch.com/wp-content/uploads/2025/05/Repentance-Leads-to-Life.png
END:VEVENT
BEGIN:VEVENT
DTSTART;TZID=America/Los_Angeles:20250525T100000
DTEND;TZID=America/Los_Angeles:20250525T100000
DTSTAMP:20260423T140715
CREATED:20250524T204249Z
LAST-MODIFIED:20250524T204249Z
UID:11582-1748167200-1748167200@csumchurch.com
SUMMARY:Peace I Leave with You; My Peace I Give to You
DESCRIPTION:On Sunday\, May 25th\, we will gather again for worship at Crystal Springs UMC\, and we hope you will join us.  Our pastor’s theme for this Sunday is “Peace I Leave with You; My Peace I Give to You\,” the words Jesus speaks to his disciples in the Gospel according to John\, Chapter 14: 23-29.  Our choir will sing a beautiful anthem incorporating the Tallis Canon with the words we know so well by Thomas Ken: “Praise God\, from whom all blessings flow.”  After the service we will enjoy fellowship and refreshments in the Fireside Room.  We hope that you will be there\, too! \nSHARE this Page via your:EmailFacebookTwitterMoreLinkedInPinterestRedditTumblr
URL:https://csumchurch.com/event/peace-i-leave-with-you-my-peace-i-give-to-you/
LOCATION:Crystal Springs United Methodist Church\, 2145 Bunker Hill Drive\, San Mateo\, CA\, 94402\, United States
CATEGORIES:Sunday
ATTACH;FMTTYPE=image/png:https://csumchurch.com/wp-content/uploads/2025/05/Peace-I-Leave-I-Give.png
END:VEVENT
END:VCALENDAR