BEGIN:VCALENDAR
VERSION:2.0
PRODID:-//CSUMChurch - ECPv6.13.2.1//NONSGML v1.0//EN
CALSCALE:GREGORIAN
METHOD:PUBLISH
X-WR-CALNAME:CSUMChurch
X-ORIGINAL-URL:https://csumchurch.com
X-WR-CALDESC:Events for CSUMChurch
REFRESH-INTERVAL;VALUE=DURATION:PT1H
X-Robots-Tag:noindex
X-PUBLISHED-TTL:PT1H
BEGIN:VTIMEZONE
TZID:America/Los_Angeles
BEGIN:DAYLIGHT
TZOFFSETFROM:-0800
TZOFFSETTO:-0700
TZNAME:PDT
DTSTART:20250309T100000
END:DAYLIGHT
BEGIN:STANDARD
TZOFFSETFROM:-0700
TZOFFSETTO:-0800
TZNAME:PST
DTSTART:20251102T090000
END:STANDARD
END:VTIMEZONE
BEGIN:VEVENT
DTSTART;TZID=America/Los_Angeles:20250706T100000
DTEND;TZID=America/Los_Angeles:20250706T110000
DTSTAMP:20260423T085515
CREATED:20250705T011625Z
LAST-MODIFIED:20250705T011625Z
UID:11620-1751796000-1751799600@csumchurch.com
SUMMARY:God’s Will: A Life of Mercy\, Justice\, and Generosity
DESCRIPTION:We hope to see you at Crystal Springs on Sunday\, July 6th\, when we will gather for communion and enjoy pianist Jonathan Wing’s special musical offering.  The Scripture for Sunday comes from the Gospel according to Luke\, Chapter 10: 1-10\, 16-20\, and our pastor\, Kata’i’i Tapa\, will preach on the theme “God’s Will: A Life of Mercy\, Justice\, and Generosity.”  After the service we will gather for fellowship and refreshments in the Fireside Room. \nWe hope that you will join us! \nSHARE this Page via your:EmailFacebookTwitterMoreLinkedInPinterestRedditTumblr
URL:https://csumchurch.com/event/gods-will-a-life-of-mercy-justice-and-generosity/
LOCATION:Crystal Springs United Methodist Church\, 2145 Bunker Hill Drive\, San Mateo\, CA\, 94402\, United States
CATEGORIES:Sunday
ATTACH;FMTTYPE=image/png:https://csumchurch.com/wp-content/uploads/2025/07/Gods-will.png
END:VEVENT
BEGIN:VEVENT
DTSTART;TZID=America/Los_Angeles:20250713T100000
DTEND;TZID=America/Los_Angeles:20250713T110000
DTSTAMP:20260423T085515
CREATED:20250712T024621Z
LAST-MODIFIED:20250712T024621Z
UID:11653-1752400800-1752404400@csumchurch.com
SUMMARY:Who Is Our Neighbor?
DESCRIPTION:We are looking forward to our worship service on Sunday\, July 13\, and hope that you will be with us then. We will welcome the children during our Children’s Time\, and then hear our pastor\, Kata’i’i Tapa\, preach on the question “Who Is Our Neighbor?” This is the  question Jesus addresses in the parable of the Good Samaritan\, recorded in the Gospel according to Luke\, Chapter 10: 25-37.  As a congregation we will join in singing hymns and sharing our joys and concerns. After the service\, we will gather for refreshments and continued fellowship in the Fireside Room. \nCome join us on Sunday at Crystal Springs UMC! \nSHARE this Page via your:EmailFacebookTwitterMoreLinkedInPinterestRedditTumblr
URL:https://csumchurch.com/event/who-is-our-neighbor/
LOCATION:Crystal Springs United Methodist Church\, 2145 Bunker Hill Drive\, San Mateo\, CA\, 94402\, United States
CATEGORIES:Sunday
ATTACH;FMTTYPE=image/png:https://csumchurch.com/wp-content/uploads/2025/07/Neighbor.png
END:VEVENT
BEGIN:VEVENT
DTSTART;TZID=America/Los_Angeles:20250720T100000
DTEND;TZID=America/Los_Angeles:20250720T110000
DTSTAMP:20260423T085515
CREATED:20250719T230115Z
LAST-MODIFIED:20250719T230115Z
UID:11660-1753005600-1753009200@csumchurch.com
SUMMARY:Choose the Right Thing to Do
DESCRIPTION:We hope that you will join us on Sunday\, July 20\, for worship at Crystal Springs UMC in the San Mateo Highlands.  Our pastor will be preaching on the theme “Choose the Right Thing to Do\,” based on the Scripture as recorded in Luke 10: 38-42\, the story of Martha and Mary. Pianist Jonathan Wing will provide the musical offering\, including his own arrangement of the beloved hymn “Be Thou My Vision.”  After the service we will gather as usual for fellowship and refreshments in the Fireside Room. \n   We look forward to seeing you on Sunday! \nSHARE this Page via your:EmailFacebookTwitterMoreLinkedInPinterestRedditTumblr
URL:https://csumchurch.com/event/choose-the-right-thing-to-do/
LOCATION:Crystal Springs United Methodist Church\, 2145 Bunker Hill Drive\, San Mateo\, CA\, 94402\, United States
CATEGORIES:Sunday
ATTACH;FMTTYPE=image/png:https://csumchurch.com/wp-content/uploads/2025/07/right-thing-to-do.png
END:VEVENT
END:VCALENDAR