BEGIN:VCALENDAR
VERSION:2.0
PRODID:-//CSUMChurch - ECPv6.13.2.1//NONSGML v1.0//EN
CALSCALE:GREGORIAN
METHOD:PUBLISH
X-WR-CALNAME:CSUMChurch
X-ORIGINAL-URL:https://csumchurch.com
X-WR-CALDESC:Events for CSUMChurch
REFRESH-INTERVAL;VALUE=DURATION:PT1H
X-Robots-Tag:noindex
X-PUBLISHED-TTL:PT1H
BEGIN:VTIMEZONE
TZID:America/Los_Angeles
BEGIN:DAYLIGHT
TZOFFSETFROM:-0800
TZOFFSETTO:-0700
TZNAME:PDT
DTSTART:20260308T100000
END:DAYLIGHT
BEGIN:STANDARD
TZOFFSETFROM:-0700
TZOFFSETTO:-0800
TZNAME:PST
DTSTART:20261101T090000
END:STANDARD
END:VTIMEZONE
BEGIN:VEVENT
DTSTART;TZID=America/Los_Angeles:20260104T100000
DTEND;TZID=America/Los_Angeles:20260104T110000
DTSTAMP:20260422T224811
CREATED:20260124T071901Z
LAST-MODIFIED:20260124T071901Z
UID:11803-1767520800-1767524400@csumchurch.com
SUMMARY:Striving in 2026 with Hope\, Love\, and Faith
DESCRIPTION:Join us as we celebrate the First Sunday of the New Year\, 2026 at Crystal Springs United Methodist Church 10:00 AM Worship Service. As we begin a new year together\, we invite you to gather with us for our first Communion of 2026. Worship will include special music from the choir\, accompanied by Jean Cole on the piano. We will hear the Scripture reading from Ephesians 1:3–14\, and Pastor Kata’i’i Tapa will share a message titled: “Striving in 2026 with Hope\, Love\, and Faith.” Come and start the new year grounded in worship\, prayer\, and community. All are welcome. Following the service\, please join us for fellowship and refreshments in the Fireside Room as we continue to gather together in joy and connection.We hope to see you there as we begin this new year together in faith. \nSHARE this Page via your:EmailFacebookTwitterMoreLinkedInPinterestRedditTumblr
URL:https://csumchurch.com/event/striving-in-2026-with-hope-love-and-faith/
LOCATION:Crystal Springs United Methodist Church\, 2145 Bunker Hill Drive\, San Mateo\, CA\, 94402\, United States
CATEGORIES:Sunday
ATTACH;FMTTYPE=image/png:https://csumchurch.com/wp-content/uploads/2026/01/image-4.png
END:VEVENT
BEGIN:VEVENT
DTSTART;TZID=America/Los_Angeles:20260111T100000
DTEND;TZID=America/Los_Angeles:20260111T110000
DTSTAMP:20260422T224811
CREATED:20260124T072826Z
LAST-MODIFIED:20260124T072826Z
UID:11808-1768125600-1768129200@csumchurch.com
SUMMARY:The Word of Baptism
DESCRIPTION:Please join us on Sunday\, January 11 at 10:00 AM for worship. We will be blessed with beautiful music played by Jean Cole on the piano\, along with special music from the choir. We will hear the Scripture reading from Matthew 3:13–17\, and our pastor will preach on “The Word of Baptism”. \n\n\n\n\n\n\nFollowing the service\, you are warmly invited to join us for fellowship in the Fireside Room. We hope to see you this Sunday as we gather together as a church community and church family.All are welcome to come and worship with us! \n\n\n\n\n\n\nSHARE this Page via your:EmailFacebookTwitterMoreLinkedInPinterestRedditTumblr
URL:https://csumchurch.com/event/the-word-of-baptism/
LOCATION:Crystal Springs United Methodist Church\, 2145 Bunker Hill Drive\, San Mateo\, CA\, 94402\, United States
CATEGORIES:Sunday
ATTACH;FMTTYPE=image/png:https://csumchurch.com/wp-content/uploads/2026/01/image-5.png
END:VEVENT
BEGIN:VEVENT
DTSTART;TZID=America/Los_Angeles:20260118T100000
DTEND;TZID=America/Los_Angeles:20260118T110000
DTSTAMP:20260422T224811
CREATED:20260115T215736Z
LAST-MODIFIED:20260115T215736Z
UID:11784-1768730400-1768734000@csumchurch.com
SUMMARY:Blessed Are Those Who Wait Patiently for the Lord
DESCRIPTION:You are warmly invited to join us for worship\, this Sunday\, January 18\, at 10:00 AM\, as we gather together as a church family and community to hear God’s Word and worship together.\n\nThe service will include beautiful music offered by our choir\, accompanied by Jean Cole\, pianist\, as well as a special time for children. The Scripture reading will be taken from Psalm 40:1–11\, and the message will be delivered by our Candidate for Ministry\, William Orecchia\, entitled: \n“Blessed Are Those Who Wait Patiently for the Lord.” \nWe invite you to set aside this time to renew your spirit and reconnect with the meaning of Sunday worship. Following the service\, you are cordially invited to join us in the Fireside Room for a time of fellowship\, coffee\, and conversation. \nWe look forward to welcoming you and sharing in worship together. \n\nSHARE this Page via your:EmailFacebookTwitterMoreLinkedInPinterestRedditTumblr
URL:https://csumchurch.com/event/blessed-are-those-who-wait-patiently-for-the-lord/
LOCATION:Crystal Springs United Methodist Church\, 2145 Bunker Hill Drive\, San Mateo\, CA\, 94402\, United States
CATEGORIES:Sunday
ATTACH;FMTTYPE=image/png:https://csumchurch.com/wp-content/uploads/2026/01/stand.png
END:VEVENT
BEGIN:VEVENT
DTSTART;TZID=America/Los_Angeles:20260125T100000
DTEND;TZID=America/Los_Angeles:20260125T110000
DTSTAMP:20260422T224811
CREATED:20260124T070958Z
LAST-MODIFIED:20260124T070958Z
UID:11798-1769335200-1769338800@csumchurch.com
SUMMARY:The Voice of the Kingdom of Heaven: Change Your Hearts and Lives
DESCRIPTION:Please join us for Sunday worship on January 25th at 10:00am. As we gather together in worship\, we are delighted to welcome back our Bell Choir\, who will be sharing special music during the service. The scripture reading will be from Matthew 4:12-23\, and Pastor Kata’i’i Tapa will preach on “The Voice of the Kingdom of Heaven: Change Your Hearts and Lives.” Hope you will join us after service for fellowship as we gather together for refreshments \nSHARE this Page via your:EmailFacebookTwitterMoreLinkedInPinterestRedditTumblr
URL:https://csumchurch.com/event/the-voice-of-the-kingdom-of-heaven-change-your-hearts-and-lives/
LOCATION:Crystal Springs United Methodist Church\, 2145 Bunker Hill Drive\, San Mateo\, CA\, 94402\, United States
CATEGORIES:Sunday
ATTACH;FMTTYPE=image/png:https://csumchurch.com/wp-content/uploads/2026/01/COME.png
END:VEVENT
END:VCALENDAR