BEGIN:VCALENDAR
VERSION:2.0
PRODID:-//CSUMChurch - ECPv6.13.2.1//NONSGML v1.0//EN
CALSCALE:GREGORIAN
METHOD:PUBLISH
X-WR-CALNAME:CSUMChurch
X-ORIGINAL-URL:https://csumchurch.com
X-WR-CALDESC:Events for CSUMChurch
REFRESH-INTERVAL;VALUE=DURATION:PT1H
X-Robots-Tag:noindex
X-PUBLISHED-TTL:PT1H
BEGIN:VTIMEZONE
TZID:America/Los_Angeles
BEGIN:DAYLIGHT
TZOFFSETFROM:-0800
TZOFFSETTO:-0700
TZNAME:PDT
DTSTART:20240310T100000
END:DAYLIGHT
BEGIN:STANDARD
TZOFFSETFROM:-0700
TZOFFSETTO:-0800
TZNAME:PST
DTSTART:20241103T090000
END:STANDARD
END:VTIMEZONE
BEGIN:VEVENT
DTSTART;TZID=America/Los_Angeles:20240929T100000
DTEND;TZID=America/Los_Angeles:20240929T110000
DTSTAMP:20260424T024459
CREATED:20240927T213126Z
LAST-MODIFIED:20240927T213126Z
UID:11345-1727604000-1727607600@csumchurch.com
SUMMARY:Open Our Hearts for the Heavenly Salt
DESCRIPTION:We hope that you will join us for worship on Sunday\, September 29th\, when our pastor will speak on the topic “Open Our Hearts for the Heavenly Salt\,” based on the scripture in the Gospel of Mark 9: 38-50. During the service\, pianist Jean Cole will play arrangements of three beloved spirituals\, including “Steal Away” and “Lord\, I Want to Be a Christian.” \nIn addition\, our choir under the direction of Bill Alley will sing “God of Grace and God of Glory.”  After the service\, our fellowship will continue in the Fireside Room with coffee and refreshments. \nCome join our Crystal Springs family on Sunday at 10 AM! \nSHARE this Page via your:EmailFacebookTwitterMoreLinkedInPinterestRedditTumblr
URL:https://csumchurch.com/event/open-our-hearts-for-the-heavenly-salt/
LOCATION:Crystal Springs United Methodist Church\, 2145 Bunker Hill Drive\, San Mateo\, CA\, 94402\, United States
CATEGORIES:Sunday
ATTACH;FMTTYPE=image/png:https://csumchurch.com/wp-content/uploads/2024/09/Heavenly-Salt.png
END:VEVENT
END:VCALENDAR