BEGIN:VCALENDAR
VERSION:2.0
PRODID:-//CSUMChurch - ECPv6.13.2.1//NONSGML v1.0//EN
CALSCALE:GREGORIAN
METHOD:PUBLISH
X-WR-CALNAME:CSUMChurch
X-ORIGINAL-URL:https://csumchurch.com
X-WR-CALDESC:Events for CSUMChurch
REFRESH-INTERVAL;VALUE=DURATION:PT1H
X-Robots-Tag:noindex
X-PUBLISHED-TTL:PT1H
BEGIN:VTIMEZONE
TZID:America/Los_Angeles
BEGIN:DAYLIGHT
TZOFFSETFROM:-0800
TZOFFSETTO:-0700
TZNAME:PDT
DTSTART:20240310T100000
END:DAYLIGHT
BEGIN:STANDARD
TZOFFSETFROM:-0700
TZOFFSETTO:-0800
TZNAME:PST
DTSTART:20241103T090000
END:STANDARD
END:VTIMEZONE
BEGIN:VEVENT
DTSTART;TZID=America/Los_Angeles:20241006T100000
DTEND;TZID=America/Los_Angeles:20241006T110000
DTSTAMP:20260424T024413
CREATED:20241005T211348Z
LAST-MODIFIED:20241005T211348Z
UID:11352-1728208800-1728212400@csumchurch.com
SUMMARY:Let's be together at the Lord's Table
DESCRIPTION:We invite you to join us this coming Sunday at Crystal Springs United Methodist Church in the Highlands  as we gather to worship and to observe World Communion Sunday.  Pastor Tapa will preach on the topic  “Let’s  Be Together at the Lord’s Table\,” based on the Scripture in the Gospel according to Luke  22: 7—20.   This Sunday’s musical offering will be provided by our choir singing “ Come to the Banquet” and by pianist Jonathan Wing\, who will play two solo pieces.      After the service our fellowship continues in the Fireside Room with coffee and refreshments. \nCome join our Crystal Springs family on Sunday at 10 AM! \nSHARE this Page via your:EmailFacebookTwitterMoreLinkedInPinterestRedditTumblr
URL:https://csumchurch.com/event/lets-be-together-at-the-lords-table/
LOCATION:Crystal Springs United Methodist Church\, 2145 Bunker Hill Drive\, San Mateo\, CA\, 94402\, United States
CATEGORIES:Sunday
ATTACH;FMTTYPE=image/png:https://csumchurch.com/wp-content/uploads/2024/10/Lords-Table.png
END:VEVENT
END:VCALENDAR