BEGIN:VCALENDAR
VERSION:2.0
PRODID:-//CSUMChurch - ECPv6.13.2.1//NONSGML v1.0//EN
CALSCALE:GREGORIAN
METHOD:PUBLISH
X-ORIGINAL-URL:https://csumchurch.com
X-WR-CALDESC:Events for CSUMChurch
REFRESH-INTERVAL;VALUE=DURATION:PT1H
X-Robots-Tag:noindex
X-PUBLISHED-TTL:PT1H
BEGIN:VTIMEZONE
TZID:America/Los_Angeles
BEGIN:DAYLIGHT
TZOFFSETFROM:-0800
TZOFFSETTO:-0700
TZNAME:PDT
DTSTART:20240310T100000
END:DAYLIGHT
BEGIN:STANDARD
TZOFFSETFROM:-0700
TZOFFSETTO:-0800
TZNAME:PST
DTSTART:20241103T090000
END:STANDARD
END:VTIMEZONE
BEGIN:VEVENT
DTSTART;TZID=America/Los_Angeles:20241124T100000
DTEND;TZID=America/Los_Angeles:20241124T110000
DTSTAMP:20260424T011902
CREATED:20241123T122959Z
LAST-MODIFIED:20241123T122959Z
UID:11411-1732442400-1732446000@csumchurch.com
SUMMARY:Are We People of the Truth?
DESCRIPTION:Sunday\, November 24th promises to be a special day at Crystal Springs UMC.  We will celebrate both Thanksgiving Sunday and Christ the King Sunday.  Our handbell choir will play two pieces\, “For the Beauty of the Earth” and “We Gather Together\,”  and our pastor\, Kata’i’i Tapa\, will preach on the topic “Are We People of the Truth?” based on the Scripture in John 18: 33-38. After the service we will gather in the Fireside Room to enjoy a Familygiving potluck luncheon. \nWe hope that you can join us on this special Sunday! \nSHARE this Page via your:EmailFacebookTwitterMoreLinkedInPinterestRedditTumblr
URL:https://csumchurch.com/event/are-we-people-of-the-truth/
LOCATION:Crystal Springs United Methodist Church\, 2145 Bunker Hill Drive\, San Mateo\, CA\, 94402\, United States
CATEGORIES:Sunday
ATTACH;FMTTYPE=image/png:https://csumchurch.com/wp-content/uploads/2024/11/Truth.png
END:VEVENT
END:VCALENDAR