BEGIN:VCALENDAR
VERSION:2.0
PRODID:-//CSUMChurch - ECPv6.13.2.1//NONSGML v1.0//EN
CALSCALE:GREGORIAN
METHOD:PUBLISH
X-WR-CALNAME:CSUMChurch
X-ORIGINAL-URL:https://csumchurch.com
X-WR-CALDESC:Events for CSUMChurch
REFRESH-INTERVAL;VALUE=DURATION:PT1H
X-Robots-Tag:noindex
X-PUBLISHED-TTL:PT1H
BEGIN:VTIMEZONE
TZID:America/Los_Angeles
BEGIN:DAYLIGHT
TZOFFSETFROM:-0800
TZOFFSETTO:-0700
TZNAME:PDT
DTSTART:20240310T100000
END:DAYLIGHT
BEGIN:STANDARD
TZOFFSETFROM:-0700
TZOFFSETTO:-0800
TZNAME:PST
DTSTART:20241103T090000
END:STANDARD
END:VTIMEZONE
BEGIN:VEVENT
DTSTART;TZID=America/Los_Angeles:20241208T100000
DTEND;TZID=America/Los_Angeles:20241208T110000
DTSTAMP:20260423T233346
CREATED:20241208T074306Z
LAST-MODIFIED:20241208T074306Z
UID:11435-1733652000-1733655600@csumchurch.com
SUMMARY:All Flesh Shall See the Salvation of God
DESCRIPTION:We hope that you will join us on Sunday\, December 8th\, when we will observe the Second Sunday in Advent and light the Candle of Love.  During our service the choir under the direction of Bill Alley will sing “People\, Look East\,” and our accompanist\, Jeffrey Chin\, will play his arrangements of three well-known hymns\, including “Come\, Thou Long Expected Jesus.”  Pastor Tapa will preach on the topic “All Flesh Shall See the Salvation of God\,” based on the Scripture reading in Luke 3: 1-6. \n   After the service we will gather in the Fireside Room for fellowship and refreshments. \n  Come join our Crystal Springs family at on Sunday at 10 AM! \n\nAnd\, on Sunday evening at 7 PM join us for a Carol Sing-Along\, followed by Cookies\, Craft\, and Cocoa!  We hope to see you on Sunday at Crystal Springs United Methodist Church in the Highlands! \nSHARE this Page via your:EmailFacebookTwitterMoreLinkedInPinterestRedditTumblr
URL:https://csumchurch.com/event/all-flesh-shall-see-the-salvation-of-god/
LOCATION:Crystal Springs United Methodist Church\, 2145 Bunker Hill Drive\, San Mateo\, CA\, 94402\, United States
CATEGORIES:Sunday
ATTACH;FMTTYPE=image/png:https://csumchurch.com/wp-content/uploads/2024/12/3AC42F3B-8344-44AE-B60F-9D433D32E279.png
END:VEVENT
END:VCALENDAR