BEGIN:VCALENDAR
VERSION:2.0
PRODID:-//CSUMChurch - ECPv6.13.2.1//NONSGML v1.0//EN
CALSCALE:GREGORIAN
METHOD:PUBLISH
X-ORIGINAL-URL:https://csumchurch.com
X-WR-CALDESC:Events for CSUMChurch
REFRESH-INTERVAL;VALUE=DURATION:PT1H
X-Robots-Tag:noindex
X-PUBLISHED-TTL:PT1H
BEGIN:VTIMEZONE
TZID:America/Los_Angeles
BEGIN:DAYLIGHT
TZOFFSETFROM:-0800
TZOFFSETTO:-0700
TZNAME:PDT
DTSTART:20240310T100000
END:DAYLIGHT
BEGIN:STANDARD
TZOFFSETFROM:-0700
TZOFFSETTO:-0800
TZNAME:PST
DTSTART:20241103T090000
END:STANDARD
END:VTIMEZONE
BEGIN:VEVENT
DTSTART;TZID=America/Los_Angeles:20241222T100000
DTEND;TZID=America/Los_Angeles:20241222T110000
DTSTAMP:20260423T233441
CREATED:20241220T034333Z
LAST-MODIFIED:20241220T034333Z
UID:11445-1734861600-1734865200@csumchurch.com
SUMMARY:Blessed Are Those Who Believe There Is a Fulfillment of What We Are Told
DESCRIPTION:We hope that you will be with us on Sunday\, December 22nd\, when we light the fourth candle\, the Candle of Peace\, celebrating the Fourth Sunday in Advent. Pastor Tapa will preach on the theme “Blessed Are Those Who Believe There Is a Fulfillment of What We Are Told\,” based on the Scripture in Luke 1:39-45.  And the music in our service will prepare us for Christmas:   we will sing carols and hear Advent and Christmas music from our choir and from our pianist\, Jean Cole.  After the service please stay for refreshments and fellowship in the Fireside Room. \n   And please join us on Christmas Eve at 7PM for a service of lessons and carols. \n   We hope to see you as we continue to prepare ourselves for the celebration of the birth of the Christ Child. \nSHARE this Page via your:EmailFacebookTwitterMoreLinkedInPinterestRedditTumblr
URL:https://csumchurch.com/event/blessed-are-those-who-believe-there-is-a-fulfillment-of-what-we-are-told/
LOCATION:Crystal Springs United Methodist Church\, 2145 Bunker Hill Drive\, San Mateo\, CA\, 94402\, United States
CATEGORIES:Sunday
ATTACH;FMTTYPE=image/png:https://csumchurch.com/wp-content/uploads/2024/12/Blessed-Believe.png
END:VEVENT
END:VCALENDAR