BEGIN:VCALENDAR
VERSION:2.0
PRODID:-//CSUMChurch - ECPv6.13.2.1//NONSGML v1.0//EN
CALSCALE:GREGORIAN
METHOD:PUBLISH
X-ORIGINAL-URL:https://csumchurch.com
X-WR-CALDESC:Events for CSUMChurch
REFRESH-INTERVAL;VALUE=DURATION:PT1H
X-Robots-Tag:noindex
X-PUBLISHED-TTL:PT1H
BEGIN:VTIMEZONE
TZID:America/Los_Angeles
BEGIN:DAYLIGHT
TZOFFSETFROM:-0800
TZOFFSETTO:-0700
TZNAME:PDT
DTSTART:20240310T100000
END:DAYLIGHT
BEGIN:STANDARD
TZOFFSETFROM:-0700
TZOFFSETTO:-0800
TZNAME:PST
DTSTART:20241103T090000
END:STANDARD
END:VTIMEZONE
BEGIN:VEVENT
DTSTART;TZID=America/Los_Angeles:20241229T100000
DTEND;TZID=America/Los_Angeles:20241229T230000
DTSTAMP:20260423T220444
CREATED:20241228T004452Z
LAST-MODIFIED:20241228T004452Z
UID:11451-1735466400-1735513200@csumchurch.com
SUMMARY:We Must Be in Our Father’s House\,
DESCRIPTION:Come join us at Crystal Springs UMC on Sunday\, when we will continue to celebrate the birth of the Christ Child.  This week Pastor Kata’i’i will preach on the topic “We Must Be in Our Father’s House\,” based on the Scripture passage in Luke 2:41-52. And we will join in singing carols and listening to jazz pianist Jeffrey Chin’s arrangements of well-known carols. \nWe hope to see you in the sanctuary as we observe the First Sunday after Christmas Day. \nAfter the service\, please join our Crystal Springs family for refreshments and fellowship in the Fireside Room. \nSHARE this Page via your:EmailFacebookTwitterMoreLinkedInPinterestRedditTumblr
URL:https://csumchurch.com/event/we-must-be-in-our-fathers-house/
LOCATION:CA
CATEGORIES:Sunday
ATTACH;FMTTYPE=image/png:https://csumchurch.com/wp-content/uploads/2024/12/Fathers-House.png
END:VEVENT
END:VCALENDAR