BEGIN:VCALENDAR
VERSION:2.0
PRODID:-//CSUMChurch - ECPv6.13.2.1//NONSGML v1.0//EN
CALSCALE:GREGORIAN
METHOD:PUBLISH
X-WR-CALNAME:CSUMChurch
X-ORIGINAL-URL:https://csumchurch.com
X-WR-CALDESC:Events for CSUMChurch
REFRESH-INTERVAL;VALUE=DURATION:PT1H
X-Robots-Tag:noindex
X-PUBLISHED-TTL:PT1H
BEGIN:VTIMEZONE
TZID:America/Los_Angeles
BEGIN:DAYLIGHT
TZOFFSETFROM:-0800
TZOFFSETTO:-0700
TZNAME:PDT
DTSTART:20250309T100000
END:DAYLIGHT
BEGIN:STANDARD
TZOFFSETFROM:-0700
TZOFFSETTO:-0800
TZNAME:PST
DTSTART:20251102T090000
END:STANDARD
END:VTIMEZONE
BEGIN:VEVENT
DTSTART;TZID=America/Los_Angeles:20250202T100000
DTEND;TZID=America/Los_Angeles:20250202T110000
DTSTAMP:20260423T202057
CREATED:20250201T071836Z
LAST-MODIFIED:20250201T071836Z
UID:11485-1738490400-1738494000@csumchurch.com
SUMMARY:Jesus Is of Yesterday\, Today\, and Forever.
DESCRIPTION:We hope to see you on Sunday\, February 2nd at Crystal Springs UMC\, when we will gather for Communion.  This Sunday’s scriptural reading is from Luke 4: 21-30\, and our pastor will preach on the topic “Jesus Is of Yesterday\, Today\, and Forever.” Special music will include two piano solos performed by pianist Jonathan Wing\, and an arrangement of “This Is My Father’s World\,” sung by our choir under the direction of Bill Alley. \n After the service we will gather for fellowship in the Fireside Room.  Please come and join our Crystal Springs family on Sunday! \nSHARE this Page via your:EmailFacebookTwitterMoreLinkedInPinterestRedditTumblr
URL:https://csumchurch.com/event/jesus-is-of-yesterday-today-and-forever/
LOCATION:Crystal Springs United Methodist Church\, 2145 Bunker Hill Drive\, San Mateo\, CA\, 94402\, United States
CATEGORIES:Sunday
ATTACH;FMTTYPE=image/png:https://csumchurch.com/wp-content/uploads/2025/01/Jesus-the-same.png
END:VEVENT
END:VCALENDAR