BEGIN:VCALENDAR
VERSION:2.0
PRODID:-//CSUMChurch - ECPv6.13.2.1//NONSGML v1.0//EN
CALSCALE:GREGORIAN
METHOD:PUBLISH
X-ORIGINAL-URL:https://csumchurch.com
X-WR-CALDESC:Events for CSUMChurch
REFRESH-INTERVAL;VALUE=DURATION:PT1H
X-Robots-Tag:noindex
X-PUBLISHED-TTL:PT1H
BEGIN:VTIMEZONE
TZID:America/Los_Angeles
BEGIN:DAYLIGHT
TZOFFSETFROM:-0800
TZOFFSETTO:-0700
TZNAME:PDT
DTSTART:20250309T100000
END:DAYLIGHT
BEGIN:STANDARD
TZOFFSETFROM:-0700
TZOFFSETTO:-0800
TZNAME:PST
DTSTART:20251102T090000
END:STANDARD
END:VTIMEZONE
BEGIN:VEVENT
DTSTART;TZID=America/Los_Angeles:20250209T100000
DTEND;TZID=America/Los_Angeles:20250209T110000
DTSTAMP:20260423T202217
CREATED:20250208T065754Z
LAST-MODIFIED:20250208T065754Z
UID:11494-1739095200-1739098800@csumchurch.com
SUMMARY:Our Call: To Be ‘Catching’ People
DESCRIPTION:We hope that you can join us for worship on Sunday\, February 9th at 10 AM. \nPastor Tapa will preach on the topic “Our Call: To Be ‘Catching’ People\,” based on the Scripture in Luke 5: 1—11\, where Jesus tells his disciples that they will soon be fishing for people’s souls. Our choir will sing an arrangement of the stirring hymn “Now Thank We All Our God\,” and\, as we observe Black History Month\,  jazz pianist Jeffrey Chin will play his arrangements of three hymns\, including “We Shall Overcome.” \n     After the service we will gather in the Fireside Room for fellowship and refreshments. \n     Come join our Crystal Springs family! \nSHARE this Page via your:EmailFacebookTwitterMoreLinkedInPinterestRedditTumblr
URL:https://csumchurch.com/event/our-call-to-be-catching-people/
LOCATION:Crystal Springs United Methodist Church\, 2145 Bunker Hill Drive\, San Mateo\, CA\, 94402\, United States
CATEGORIES:Sunday
ATTACH;FMTTYPE=image/png:https://csumchurch.com/wp-content/uploads/2025/02/Our-Call.png
END:VEVENT
END:VCALENDAR