BEGIN:VCALENDAR
VERSION:2.0
PRODID:-//CSUMChurch - ECPv6.13.2.1//NONSGML v1.0//EN
CALSCALE:GREGORIAN
METHOD:PUBLISH
X-WR-CALNAME:CSUMChurch
X-ORIGINAL-URL:https://csumchurch.com
X-WR-CALDESC:Events for CSUMChurch
REFRESH-INTERVAL;VALUE=DURATION:PT1H
X-Robots-Tag:noindex
X-PUBLISHED-TTL:PT1H
BEGIN:VTIMEZONE
TZID:America/Los_Angeles
BEGIN:DAYLIGHT
TZOFFSETFROM:-0800
TZOFFSETTO:-0700
TZNAME:PDT
DTSTART:20250309T100000
END:DAYLIGHT
BEGIN:STANDARD
TZOFFSETFROM:-0700
TZOFFSETTO:-0800
TZNAME:PST
DTSTART:20251102T090000
END:STANDARD
END:VTIMEZONE
BEGIN:VEVENT
DTSTART;TZID=America/Los_Angeles:20250330T100000
DTEND;TZID=America/Los_Angeles:20250330T110000
DTSTAMP:20260423T171617
CREATED:20250329T003319Z
LAST-MODIFIED:20250329T003319Z
UID:11528-1743328800-1743332400@csumchurch.com
SUMMARY:The Church is for Sinners
DESCRIPTION:We hope to have you with us on March 30th\, when we will observe the Fourth Sunday in Lent. \nPastor Tapa will preach on the topic “The Church Is for Sinners\,” based on the parable of the prodigal son as told in Luke 15: 1-3\, 11b-32.  Our choir will sing a modern arrangement of “Amazing Grace\,” and our pianist\, Jeffrey Chin\, will play his arrangements of three beloved hymns. \nAfter the service we will gather for refreshments and fellowship in the Fireside Room. \nPlease come join our Crystal Springs family on Sunday at 10! \nSHARE this Page via your:EmailFacebookTwitterMoreLinkedInPinterestRedditTumblr
URL:https://csumchurch.com/event/the-church-is-for-sinners/
LOCATION:Crystal Springs United Methodist Church\, 2145 Bunker Hill Drive\, San Mateo\, CA\, 94402\, United States
CATEGORIES:Sunday
ATTACH;FMTTYPE=image/png:https://csumchurch.com/wp-content/uploads/2025/03/Sinners.png
END:VEVENT
END:VCALENDAR