BEGIN:VCALENDAR
VERSION:2.0
PRODID:-//CSUMChurch - ECPv6.13.2.1//NONSGML v1.0//EN
CALSCALE:GREGORIAN
METHOD:PUBLISH
X-WR-CALNAME:CSUMChurch
X-ORIGINAL-URL:https://csumchurch.com
X-WR-CALDESC:Events for CSUMChurch
REFRESH-INTERVAL;VALUE=DURATION:PT1H
X-Robots-Tag:noindex
X-PUBLISHED-TTL:PT1H
BEGIN:VTIMEZONE
TZID:America/Los_Angeles
BEGIN:DAYLIGHT
TZOFFSETFROM:-0800
TZOFFSETTO:-0700
TZNAME:PDT
DTSTART:20250309T100000
END:DAYLIGHT
BEGIN:STANDARD
TZOFFSETFROM:-0700
TZOFFSETTO:-0800
TZNAME:PST
DTSTART:20251102T090000
END:STANDARD
END:VTIMEZONE
BEGIN:VEVENT
DTSTART;TZID=America/Los_Angeles:20250406T100000
DTEND;TZID=America/Los_Angeles:20250406T110000
DTSTAMP:20260423T171612
CREATED:20250403T231717Z
LAST-MODIFIED:20250403T231717Z
UID:11533-1743933600-1743937200@csumchurch.com
SUMMARY:What Is Our Offering for Jesus’s Sacrificial Love?
DESCRIPTION:We hope that you can join us for worship on Sunday\, April 6th\, as we observe the Fifth Sunday in Lent and gather for communion.  Pastor Tapa will preach on the question “What Is Our Offering for Jesus’s Sacrificial Love?”\, based on the Scripture in the Gospel of John 12: 1-8.   Special music for this service will include piano solos played by Jonathan Wing and a choral anthem\, “Come to the Table.” \nFollowing the service we will gather in the Fireside Room for fellowship and refreshments. \nCome join our Crystal Springs family on Sunday! \nSHARE this Page via your:EmailFacebookTwitterMoreLinkedInPinterestRedditTumblr
URL:https://csumchurch.com/event/what-is-our-offering-for-jesuss-sacrificial-love/
LOCATION:Crystal Springs United Methodist Church\, 2145 Bunker Hill Drive\, San Mateo\, CA\, 94402\, United States
CATEGORIES:Sunday
ATTACH;FMTTYPE=image/png:https://csumchurch.com/wp-content/uploads/2025/04/Sacrificial-Love-1.png
END:VEVENT
END:VCALENDAR