BEGIN:VCALENDAR
VERSION:2.0
PRODID:-//CSUMChurch - ECPv6.13.2.1//NONSGML v1.0//EN
CALSCALE:GREGORIAN
METHOD:PUBLISH
X-WR-CALNAME:CSUMChurch
X-ORIGINAL-URL:https://csumchurch.com
X-WR-CALDESC:Events for CSUMChurch
REFRESH-INTERVAL;VALUE=DURATION:PT1H
X-Robots-Tag:noindex
X-PUBLISHED-TTL:PT1H
BEGIN:VTIMEZONE
TZID:America/Los_Angeles
BEGIN:DAYLIGHT
TZOFFSETFROM:-0800
TZOFFSETTO:-0700
TZNAME:PDT
DTSTART:20250309T100000
END:DAYLIGHT
BEGIN:STANDARD
TZOFFSETFROM:-0700
TZOFFSETTO:-0800
TZNAME:PST
DTSTART:20251102T090000
END:STANDARD
END:VTIMEZONE
BEGIN:VEVENT
DTSTART;TZID=America/Los_Angeles:20250413T100000
DTEND;TZID=America/Los_Angeles:20250413T110000
DTSTAMP:20260423T171618
CREATED:20250411T201915Z
LAST-MODIFIED:20250411T201915Z
UID:11540-1744538400-1744542000@csumchurch.com
SUMMARY:Triumphal Entry Reveals God’s Love
DESCRIPTION:This Sunday at Crystal Springs UMC we will begin our Palm Sunday service waving  palms and singing “Hosanna.”  Our pastor will preach on the topic “Triumphal Entry Reveals God’s Love\,” based on the lesson in Luke 19: 28—40.  Special music will include a piano meditation\, “The Palms\,” and a choral anthem\, “Hosanna.” Later in the service we will turn toward Holy Week and sing the hymn “What Wondrous Love Is This.” \nFollowing the service we will gather in the Fireside Room for fellowship and refreshments. \nWe hope that you can be with us on Sunday at 10 and again on Maundy Thursday at 7PM\, as we journey through Holy Week. \nSHARE this Page via your:EmailFacebookTwitterMoreLinkedInPinterestRedditTumblr
URL:https://csumchurch.com/event/triumphal-entry-reveals-gods-love/
LOCATION:Crystal Springs United Methodist Church\, 2145 Bunker Hill Drive\, San Mateo\, CA\, 94402\, United States
CATEGORIES:Sunday
ATTACH;FMTTYPE=image/png:https://csumchurch.com/wp-content/uploads/2025/04/Triumphal-Entry.png
END:VEVENT
END:VCALENDAR