BEGIN:VCALENDAR
VERSION:2.0
PRODID:-//CSUMChurch - ECPv6.13.2.1//NONSGML v1.0//EN
CALSCALE:GREGORIAN
METHOD:PUBLISH
X-ORIGINAL-URL:https://csumchurch.com
X-WR-CALDESC:Events for CSUMChurch
REFRESH-INTERVAL;VALUE=DURATION:PT1H
X-Robots-Tag:noindex
X-PUBLISHED-TTL:PT1H
BEGIN:VTIMEZONE
TZID:America/Los_Angeles
BEGIN:DAYLIGHT
TZOFFSETFROM:-0800
TZOFFSETTO:-0700
TZNAME:PDT
DTSTART:20250309T100000
END:DAYLIGHT
BEGIN:STANDARD
TZOFFSETFROM:-0700
TZOFFSETTO:-0800
TZNAME:PST
DTSTART:20251102T090000
END:STANDARD
END:VTIMEZONE
BEGIN:VEVENT
DTSTART;TZID=America/Los_Angeles:20250601T100000
DTEND;TZID=America/Los_Angeles:20250601T110000
DTSTAMP:20260423T140806
CREATED:20250530T212533Z
LAST-MODIFIED:20250530T212533Z
UID:11588-1748772000-1748775600@csumchurch.com
SUMMARY:What Do We Do to Ascend into God’s Glory?
DESCRIPTION:We hope that you can join us on Sunday\, June 1\, when we will observe Ascension Day and share in communion. During the service pianist Jonathan Wing will play two piano solos and will accompany the choir in an arrangement of the beloved hymn “Fairest Lord Jesus.” Following the reading of the Gospel according to Luke 24:44-53\, Pastor Tapa will focus on the question “What Do We Do to Ascend into God’s Glory?” \n   After the service we will gather for fellowship in the Fireside Room.  We hope that you will be with us. \nSHARE this Page via your:EmailFacebookTwitterMoreLinkedInPinterestRedditTumblr
URL:https://csumchurch.com/event/what-do-we-do-to-ascend-into-gods-glory/
LOCATION:Crystal Springs United Methodist Church\, 2145 Bunker Hill Drive\, San Mateo\, CA\, 94402\, United States
CATEGORIES:Sunday
ATTACH;FMTTYPE=image/png:https://csumchurch.com/wp-content/uploads/2025/05/Gods-Glory.png
END:VEVENT
END:VCALENDAR