BEGIN:VCALENDAR
VERSION:2.0
PRODID:-//CSUMChurch - ECPv6.13.2.1//NONSGML v1.0//EN
CALSCALE:GREGORIAN
METHOD:PUBLISH
X-WR-CALNAME:CSUMChurch
X-ORIGINAL-URL:https://csumchurch.com
X-WR-CALDESC:Events for CSUMChurch
REFRESH-INTERVAL;VALUE=DURATION:PT1H
X-Robots-Tag:noindex
X-PUBLISHED-TTL:PT1H
BEGIN:VTIMEZONE
TZID:America/Los_Angeles
BEGIN:DAYLIGHT
TZOFFSETFROM:-0800
TZOFFSETTO:-0700
TZNAME:PDT
DTSTART:20250309T100000
END:DAYLIGHT
BEGIN:STANDARD
TZOFFSETFROM:-0700
TZOFFSETTO:-0800
TZNAME:PST
DTSTART:20251102T090000
END:STANDARD
END:VTIMEZONE
BEGIN:VEVENT
DTSTART;TZID=America/Los_Angeles:20250608T100000
DTEND;TZID=America/Los_Angeles:20250608T110000
DTSTAMP:20260423T135053
CREATED:20250607T071719Z
LAST-MODIFIED:20250607T071807Z
UID:11594-1749376800-1749380400@csumchurch.com
SUMMARY:The Day of the Coming of the Holy Spirit
DESCRIPTION:Please join us on Sunday for Pentecost\, when we will celebrate the birthday of the church as a community empowered by the Holy Spirit.  Our pastor will preach on the topic “ The Day of the Coming of the Holy Spirit” as described in Acts 2: 1-21\, and the music for this Sunday will continue to remind us of the inspiring power of the Holy Spirit.  Jazz pianist Jeffrey Chin will play his arrangements of three hymns\, including “Breathe on Me\, Breath of God\,” and will accompany the choir in the anthem “Holy Spirit\, Come and Fill Us.” \n    As part of this celebration\, many of us will bring unwrapped gifts for the church:  paper supplies\, cleaning supplies\, items that we can use for our services and activities. \n    We hope to have you with us on Sunday for our church service and for fellowship afterwards.  See you then! \nSHARE this Page via your:EmailFacebookTwitterMoreLinkedInPinterestRedditTumblr
URL:https://csumchurch.com/event/the-day-of-the-coming-of-the-holy-spirit/
LOCATION:Crystal Springs United Methodist Church\, 2145 Bunker Hill Drive\, San Mateo\, CA\, 94402\, United States
CATEGORIES:Sunday
ATTACH;FMTTYPE=image/png:https://csumchurch.com/wp-content/uploads/2025/06/Holy-Spirit.png
END:VEVENT
END:VCALENDAR