BEGIN:VCALENDAR
VERSION:2.0
PRODID:-//CSUMChurch - ECPv6.13.2.1//NONSGML v1.0//EN
CALSCALE:GREGORIAN
METHOD:PUBLISH
X-WR-CALNAME:CSUMChurch
X-ORIGINAL-URL:https://csumchurch.com
X-WR-CALDESC:Events for CSUMChurch
REFRESH-INTERVAL;VALUE=DURATION:PT1H
X-Robots-Tag:noindex
X-PUBLISHED-TTL:PT1H
BEGIN:VTIMEZONE
TZID:America/Los_Angeles
BEGIN:DAYLIGHT
TZOFFSETFROM:-0800
TZOFFSETTO:-0700
TZNAME:PDT
DTSTART:20250309T100000
END:DAYLIGHT
BEGIN:STANDARD
TZOFFSETFROM:-0700
TZOFFSETTO:-0800
TZNAME:PST
DTSTART:20251102T090000
END:STANDARD
END:VTIMEZONE
BEGIN:VEVENT
DTSTART;TZID=America/Los_Angeles:20250615T100000
DTEND;TZID=America/Los_Angeles:20250615T110000
DTSTAMP:20260423T135105
CREATED:20250615T044115Z
LAST-MODIFIED:20250615T044115Z
UID:11602-1749981600-1749985200@csumchurch.com
SUMMARY:The Work of the Spirit in Us
DESCRIPTION:We hope that you will join us on Sunday at Crystal Springs UMC when we gather for worship.  Our pastor\, Kata’i’i Tapa\, will preach on the topic “The Work of the Spirit in Us\,” using the text from the Scripture\, John 16: 12-15.  We can look forward to beautiful music:   Pianist Jean Cole will share with us three piano pieces\, including an arrangement of the spiritual “Every Time I Feel the Spirit\,” and will accompany the choir in a lovely arrangement of “Jesus Loves Me\,” which incorporates “Clair de Lune.”  After the service we will gather for refreshments and fellowship in the Fireside Room.  \nWe hope to greet you there. \nSHARE this Page via your:EmailFacebookTwitterMoreLinkedInPinterestRedditTumblr
URL:https://csumchurch.com/event/the-work-of-the-spirit-in-us/
LOCATION:Crystal Springs United Methodist Church\, 2145 Bunker Hill Drive\, San Mateo\, CA\, 94402\, United States
CATEGORIES:Sunday
ATTACH;FMTTYPE=image/png:https://csumchurch.com/wp-content/uploads/2025/06/The-Work-of-the-Spirit-in-Us-1.png
END:VEVENT
END:VCALENDAR