BEGIN:VCALENDAR
VERSION:2.0
PRODID:-//CSUMChurch - ECPv6.13.2.1//NONSGML v1.0//EN
CALSCALE:GREGORIAN
METHOD:PUBLISH
X-ORIGINAL-URL:https://csumchurch.com
X-WR-CALDESC:Events for CSUMChurch
REFRESH-INTERVAL;VALUE=DURATION:PT1H
X-Robots-Tag:noindex
X-PUBLISHED-TTL:PT1H
BEGIN:VTIMEZONE
TZID:America/Los_Angeles
BEGIN:DAYLIGHT
TZOFFSETFROM:-0800
TZOFFSETTO:-0700
TZNAME:PDT
DTSTART:20250309T100000
END:DAYLIGHT
BEGIN:STANDARD
TZOFFSETFROM:-0700
TZOFFSETTO:-0800
TZNAME:PST
DTSTART:20251102T090000
END:STANDARD
END:VTIMEZONE
BEGIN:VEVENT
DTSTART;TZID=America/Los_Angeles:20250629T100000
DTEND;TZID=America/Los_Angeles:20250629T110000
DTSTAMP:20260423T122034
CREATED:20250626T172112Z
LAST-MODIFIED:20250626T172112Z
UID:11612-1751191200-1751194800@csumchurch.com
SUMMARY:Are We Willing to Follow Jesus Wholeheartedly?
DESCRIPTION:Please come join us for worship at Crystal Springs UMC on Sunday\, June 29th.  Judy Riedy\, who directs the Children’s Ministry\, will be our guest speaker.  She will preach on the question “Are We Willing to Follow Jesus Wholeheartedly?”  During the service pianist Jean Cole will play four piano solos\, including an arrangement of the beloved hymn “It Is Well with My Soul\,” in memory of Jean’s organ teacher\, Tom Foster.  \nAfter the service\, we will gather for fellowship and refreshments in the Fireside Room. \nWe would love to have you join us at Crystal Springs on Sunday!   \nSHARE this Page via your:EmailFacebookTwitterMoreLinkedInPinterestRedditTumblr
URL:https://csumchurch.com/event/are-we-willing-to-follow-jesus-wholeheartedly/
LOCATION:CA
CATEGORIES:Sunday
ATTACH;FMTTYPE=image/png:https://csumchurch.com/wp-content/uploads/2025/06/Follow-Jesus.png
END:VEVENT
END:VCALENDAR