BEGIN:VCALENDAR
VERSION:2.0
PRODID:-//CSUMChurch - ECPv6.13.2.1//NONSGML v1.0//EN
CALSCALE:GREGORIAN
METHOD:PUBLISH
X-ORIGINAL-URL:https://csumchurch.com
X-WR-CALDESC:Events for CSUMChurch
REFRESH-INTERVAL;VALUE=DURATION:PT1H
X-Robots-Tag:noindex
X-PUBLISHED-TTL:PT1H
BEGIN:VTIMEZONE
TZID:America/Los_Angeles
BEGIN:DAYLIGHT
TZOFFSETFROM:-0800
TZOFFSETTO:-0700
TZNAME:PDT
DTSTART:20250309T100000
END:DAYLIGHT
BEGIN:STANDARD
TZOFFSETFROM:-0700
TZOFFSETTO:-0800
TZNAME:PST
DTSTART:20251102T090000
END:STANDARD
END:VTIMEZONE
BEGIN:VEVENT
DTSTART;TZID=America/Los_Angeles:20250706T100000
DTEND;TZID=America/Los_Angeles:20250706T110000
DTSTAMP:20260423T122029
CREATED:20250705T011625Z
LAST-MODIFIED:20250705T011625Z
UID:11620-1751796000-1751799600@csumchurch.com
SUMMARY:God’s Will: A Life of Mercy\, Justice\, and Generosity
DESCRIPTION:We hope to see you at Crystal Springs on Sunday\, July 6th\, when we will gather for communion and enjoy pianist Jonathan Wing’s special musical offering.  The Scripture for Sunday comes from the Gospel according to Luke\, Chapter 10: 1-10\, 16-20\, and our pastor\, Kata’i’i Tapa\, will preach on the theme “God’s Will: A Life of Mercy\, Justice\, and Generosity.”  After the service we will gather for fellowship and refreshments in the Fireside Room. \nWe hope that you will join us! \nSHARE this Page via your:EmailFacebookTwitterMoreLinkedInPinterestRedditTumblr
URL:https://csumchurch.com/event/gods-will-a-life-of-mercy-justice-and-generosity/
LOCATION:Crystal Springs United Methodist Church\, 2145 Bunker Hill Drive\, San Mateo\, CA\, 94402\, United States
CATEGORIES:Sunday
ATTACH;FMTTYPE=image/png:https://csumchurch.com/wp-content/uploads/2025/07/Gods-will.png
END:VEVENT
END:VCALENDAR