BEGIN:VCALENDAR
VERSION:2.0
PRODID:-//CSUMChurch - ECPv6.13.2.1//NONSGML v1.0//EN
CALSCALE:GREGORIAN
METHOD:PUBLISH
X-WR-CALNAME:CSUMChurch
X-ORIGINAL-URL:https://csumchurch.com
X-WR-CALDESC:Events for CSUMChurch
REFRESH-INTERVAL;VALUE=DURATION:PT1H
X-Robots-Tag:noindex
X-PUBLISHED-TTL:PT1H
BEGIN:VTIMEZONE
TZID:America/Los_Angeles
BEGIN:DAYLIGHT
TZOFFSETFROM:-0800
TZOFFSETTO:-0700
TZNAME:PDT
DTSTART:20250309T100000
END:DAYLIGHT
BEGIN:STANDARD
TZOFFSETFROM:-0700
TZOFFSETTO:-0800
TZNAME:PST
DTSTART:20251102T090000
END:STANDARD
END:VTIMEZONE
BEGIN:VEVENT
DTSTART;TZID=America/Los_Angeles:20250824T100000
DTEND;TZID=America/Los_Angeles:20250824T110000
DTSTAMP:20260423T084120
CREATED:20250824T084451Z
LAST-MODIFIED:20250824T084451Z
UID:11681-1756029600-1756033200@csumchurch.com
SUMMARY:God’s Laws and Commandments Are to Save Lives
DESCRIPTION:We hope that you will join us for worship on Sunday\, August 24th\, at Crystal Springs UMC in the San Mateo Highlands.  Our pastor\, Kata’i’i Tapa\, will preach on the topic “God’s Laws and Commandments Are to Save Lives\,” based on the Scripture in the Gospel according to Luke 13: 10—17. Our pianist this Sunday\, Jonathan Wing\, will play two piano solos and will be joined by Diane for two 4-hand piano arrangements of traditional hymns.  After the service please come to the Fireside Room for refreshments and fellowship.  We want you to be part of our Crystal Springs community! \nSHARE this Page via your:EmailFacebookTwitterMoreLinkedInPinterestRedditTumblr
URL:https://csumchurch.com/event/gods-laws-and-commandments-are-to-save-lives/
LOCATION:Crystal Springs United Methodist Church\, 2145 Bunker Hill Drive\, San Mateo\, CA\, 94402\, United States
CATEGORIES:Sunday
ATTACH;FMTTYPE=image/png:https://csumchurch.com/wp-content/uploads/2025/08/Gods-Laws.png
END:VEVENT
END:VCALENDAR