BEGIN:VCALENDAR
VERSION:2.0
PRODID:-//CSUMChurch - ECPv6.13.2.1//NONSGML v1.0//EN
CALSCALE:GREGORIAN
METHOD:PUBLISH
X-ORIGINAL-URL:https://csumchurch.com
X-WR-CALDESC:Events for CSUMChurch
REFRESH-INTERVAL;VALUE=DURATION:PT1H
X-Robots-Tag:noindex
X-PUBLISHED-TTL:PT1H
BEGIN:VTIMEZONE
TZID:America/Los_Angeles
BEGIN:DAYLIGHT
TZOFFSETFROM:-0800
TZOFFSETTO:-0700
TZNAME:PDT
DTSTART:20260308T100000
END:DAYLIGHT
BEGIN:STANDARD
TZOFFSETFROM:-0700
TZOFFSETTO:-0800
TZNAME:PST
DTSTART:20261101T090000
END:STANDARD
END:VTIMEZONE
BEGIN:VEVENT
DTSTART;TZID=America/Los_Angeles:20260201T100000
DTEND;TZID=America/Los_Angeles:20260201T110000
DTSTAMP:20260422T225129
CREATED:20260127T220631Z
LAST-MODIFIED:20260127T220631Z
UID:11821-1769940000-1769943600@csumchurch.com
SUMMARY:What God Requires of Us
DESCRIPTION:Please join us this Sunday February 1st at 10 am service as we welcome the new month of February with a meaningful time of worship and Communion. \nWe will share in the Lord’s Table together and enjoy special music from the choir. Our Scripture reading will come from Micah 6:1–8\, and the Pastor will preach on “What God Requires of Us.” We hope you will join us on this first Sunday of February as we break bread in Communion and fellowship with one another. All are welcome\, We look forward to worshiping together. \nSHARE this Page via your:EmailFacebookTwitterMoreLinkedInPinterestRedditTumblr
URL:https://csumchurch.com/event/what-god-requires-of-us/
LOCATION:Crystal Springs United Methodist Church\, 2145 Bunker Hill Drive\, San Mateo\, CA\, 94402\, United States
CATEGORIES:Sunday
ATTACH;FMTTYPE=image/png:https://csumchurch.com/wp-content/uploads/2026/01/image-6-e1769551257753.png
END:VEVENT
BEGIN:VEVENT
DTSTART;TZID=America/Los_Angeles:20260201T100000
DTEND;TZID=America/Los_Angeles:20260201T230000
DTSTAMP:20260422T225129
CREATED:20260228T100314Z
LAST-MODIFIED:20260228T100314Z
UID:11849-1769940000-1769986800@csumchurch.com
SUMMARY:For God So Loved the World
DESCRIPTION:Please join us on Sunday\, March 1st at 10 AM at Crystal Springs United Methodist Church as we gather for worship and Holy Communion on the first Sunday of March. We will be blessed with special music from the choir as they sing “We Walk by Faith.” Our Scripture reading will come from John 3:1–17\, and Pastor Kata’i’i Tapa will share her message on the theme\, “For God So Loved the World.” We hope you will join us as we begin the month of March in worship\, fellowship\, and communion together. We look forward to seeing you Sunday! \nSHARE this Page via your:EmailFacebookTwitterMoreLinkedInPinterestRedditTumblr
URL:https://csumchurch.com/event/for-god-so-loved-the-world/
LOCATION:Crystal Springs United Methodist Church\, 2145 Bunker Hill Drive\, San Mateo\, CA\, 94402\, United States
CATEGORIES:Sunday
ATTACH;FMTTYPE=image/png:https://csumchurch.com/wp-content/uploads/2026/02/unnamed-3.png
END:VEVENT
END:VCALENDAR