BEGIN:VCALENDAR
VERSION:2.0
PRODID:-//CSUMChurch - ECPv6.13.2.1//NONSGML v1.0//EN
CALSCALE:GREGORIAN
METHOD:PUBLISH
X-ORIGINAL-URL:https://csumchurch.com
X-WR-CALDESC:Events for CSUMChurch
REFRESH-INTERVAL;VALUE=DURATION:PT1H
X-Robots-Tag:noindex
X-PUBLISHED-TTL:PT1H
BEGIN:VTIMEZONE
TZID:America/Los_Angeles
BEGIN:DAYLIGHT
TZOFFSETFROM:-0800
TZOFFSETTO:-0700
TZNAME:PDT
DTSTART:20260308T100000
END:DAYLIGHT
BEGIN:STANDARD
TZOFFSETFROM:-0700
TZOFFSETTO:-0800
TZNAME:PST
DTSTART:20261101T090000
END:STANDARD
END:VTIMEZONE
BEGIN:VEVENT
DTSTART;TZID=America/Los_Angeles:20260215T100000
DTEND;TZID=America/Los_Angeles:20260215T230000
DTSTAMP:20260422T225127
CREATED:20260215T040553Z
LAST-MODIFIED:20260215T040553Z
UID:11833-1771149600-1771196400@csumchurch.com
SUMMARY:Jesus’ Transformation — Listen to Him
DESCRIPTION:Dear Church Family\, \nPlease come join us this Sunday at 10:00 AM as we gather together for worship and fellowship. We are honored to welcome our guest speaker\, Eleni Latu’ila\, as she blesses us with her first time preaching. Let us come together to support and encourage her as she shares God’s word. Children’s Time will be led by Nahokulani Latu’ila. The scripture reading will be Matthew 17:1–9\, read by Teresa Throwbridge\, and Eleni will be preaching on the message: “Jesus’ Transformation — Listen to Him.” We hope you will join us for this special Sunday as we worship and grow together in faith. \n\nSHARE this Page via your:EmailFacebookTwitterMoreLinkedInPinterestRedditTumblr
URL:https://csumchurch.com/event/jesus-transformation-listen-to-him/
LOCATION:Crystal Springs United Methodist Church\, 2145 Bunker Hill Drive\, San Mateo\, CA\, 94402\, United States
CATEGORIES:Sunday
ATTACH;FMTTYPE=image/png:https://csumchurch.com/wp-content/uploads/2026/02/Gaurd-2.png
END:VEVENT
END:VCALENDAR