BEGIN:VCALENDAR
VERSION:2.0
PRODID:-//CSUMChurch - ECPv6.13.2.1//NONSGML v1.0//EN
CALSCALE:GREGORIAN
METHOD:PUBLISH
X-WR-CALNAME:CSUMChurch
X-ORIGINAL-URL:https://csumchurch.com
X-WR-CALDESC:Events for CSUMChurch
REFRESH-INTERVAL;VALUE=DURATION:PT1H
X-Robots-Tag:noindex
X-PUBLISHED-TTL:PT1H
BEGIN:VTIMEZONE
TZID:America/Los_Angeles
BEGIN:DAYLIGHT
TZOFFSETFROM:-0800
TZOFFSETTO:-0700
TZNAME:PDT
DTSTART:20260308T100000
END:DAYLIGHT
BEGIN:STANDARD
TZOFFSETFROM:-0700
TZOFFSETTO:-0800
TZNAME:PST
DTSTART:20261101T090000
END:STANDARD
END:VTIMEZONE
BEGIN:VEVENT
DTSTART;TZID=America/Los_Angeles:20260208T100000
DTEND;TZID=America/Los_Angeles:20260208T110000
DTSTAMP:20260423T021116
CREATED:20260208T104914Z
LAST-MODIFIED:20260208T104914Z
UID:11826-1770544800-1770548400@csumchurch.com
SUMMARY:Faith Is Grounded in God’s Power
DESCRIPTION:Please join us this Sunday\, February 8\, for our 10 am worship service as we come together in faith and praise. Come and enjoy beautiful special music from our choir as they sing “This Little Light of Mine.” We will hear the scripture reading from 1 Corinthians 2:1–12\, and the pastor will share the message: “Faith Is Grounded in God’s Power.” \nWe warmly invite you to be part of this time of worship and fellowship. We hope you can join us as we grow together in faith and community. \nSHARE this Page via your:EmailFacebookTwitterMoreLinkedInPinterestRedditTumblr
URL:https://csumchurch.com/event/faith-is-grounded-in-gods-power/
LOCATION:Crystal Springs United Methodist Church\, 2145 Bunker Hill Drive\, San Mateo\, CA\, 94402\, United States
CATEGORIES:Sunday
ATTACH;FMTTYPE=image/png:https://csumchurch.com/wp-content/uploads/2026/02/image-7.png
END:VEVENT
BEGIN:VEVENT
DTSTART;TZID=America/Los_Angeles:20260215T100000
DTEND;TZID=America/Los_Angeles:20260215T230000
DTSTAMP:20260423T021117
CREATED:20260215T040553Z
LAST-MODIFIED:20260215T040553Z
UID:11833-1771149600-1771196400@csumchurch.com
SUMMARY:Jesus’ Transformation — Listen to Him
DESCRIPTION:Dear Church Family\, \nPlease come join us this Sunday at 10:00 AM as we gather together for worship and fellowship. We are honored to welcome our guest speaker\, Eleni Latu’ila\, as she blesses us with her first time preaching. Let us come together to support and encourage her as she shares God’s word. Children’s Time will be led by Nahokulani Latu’ila. The scripture reading will be Matthew 17:1–9\, read by Teresa Throwbridge\, and Eleni will be preaching on the message: “Jesus’ Transformation — Listen to Him.” We hope you will join us for this special Sunday as we worship and grow together in faith. \n\nSHARE this Page via your:EmailFacebookTwitterMoreLinkedInPinterestRedditTumblr
URL:https://csumchurch.com/event/jesus-transformation-listen-to-him/
LOCATION:Crystal Springs United Methodist Church\, 2145 Bunker Hill Drive\, San Mateo\, CA\, 94402\, United States
CATEGORIES:Sunday
ATTACH;FMTTYPE=image/png:https://csumchurch.com/wp-content/uploads/2026/02/Gaurd-2.png
END:VEVENT
BEGIN:VEVENT
DTSTART;TZID=America/Los_Angeles:20260218T190000
DTEND;TZID=America/Los_Angeles:20260218T200000
DTSTAMP:20260423T021117
CREATED:20260218T055820Z
LAST-MODIFIED:20260218T063808Z
UID:11839-1771441200-1771444800@csumchurch.com
SUMMARY:Ash Wednesday Service
DESCRIPTION:Please join us this Wednesday\, February 18th at 7:00 PM for our Ash Wednesday service. Come and worship with us as we begin the Lenten season together. We will gather in prayer\, reflection\, and the sharing of ashes as a sign of humility and renewal. All are welcome. We hope you will join us\, as our Pastor Kata’i’i Tapa will preach on “The Call: Return to Me With All Your Heart”. \nSHARE this Page via your:EmailFacebookTwitterMoreLinkedInPinterestRedditTumblr
URL:https://csumchurch.com/event/ash-wednesday-service/
LOCATION:Crystal Springs United Methodist Church\, 2145 Bunker Hill Drive\, San Mateo\, CA\, 94402\, United States
CATEGORIES:Sunday
ATTACH;FMTTYPE=image/png:https://csumchurch.com/wp-content/uploads/2026/02/unnamed.png
END:VEVENT
BEGIN:VEVENT
DTSTART;TZID=America/Los_Angeles:20260222T100000
DTEND;TZID=America/Los_Angeles:20260222T110000
DTSTAMP:20260423T021117
CREATED:20260221T223625Z
LAST-MODIFIED:20260221T223625Z
UID:11844-1771754400-1771758000@csumchurch.com
SUMMARY:We Are Tempted Consistently
DESCRIPTION:Please join us this Sunday at 10am\,  as we gather together for worship on the First Sunday of Lent. As we enter this sacred season of reflection and renewal\, we invite you to come and prepare your hearts with us. We will enjoy beautiful music from our Handbell Choir and hear the Scripture reading from Matthew 4:1–11. Pastor Kata’i’i Tapa will share a message titled: “We Are Tempted Consistently.” \nCome and be encouraged as we reflect on Christ’s strength in the wilderness and how God sustains us through our own times of testing. We look forward to worshiping and fellowshipping with you this Sunday. \nSHARE this Page via your:EmailFacebookTwitterMoreLinkedInPinterestRedditTumblr
URL:https://csumchurch.com/event/we-are-tempted-consistently/
LOCATION:Crystal Springs United Methodist Church\, 2145 Bunker Hill Drive\, San Mateo\, CA\, 94402\, United States
CATEGORIES:Sunday
ATTACH;FMTTYPE=image/png:https://csumchurch.com/wp-content/uploads/2026/02/unnamed-2.png
END:VEVENT
BEGIN:VEVENT
DTSTART;TZID=America/Los_Angeles:20260308T100000
DTEND;TZID=America/Los_Angeles:20260308T110000
DTSTAMP:20260423T021117
CREATED:20260308T114156Z
LAST-MODIFIED:20260308T114156Z
UID:11855-1772964000-1772967600@csumchurch.com
SUMMARY:Is the Lord Really With Us?
DESCRIPTION:Join us this Sunday\, March 8th at 10:00 AM for worship. Come and enjoy beautiful music with special music by Bill and the choir\, accompanied by Jeffrey Chin. We will hear the scripture reading from Exodus 17:1–7\, and Pastor Kata’i’i Tapa will share the message\, “Is the Lord Really With Us?” We hope you will join us for a meaningful time of worship and fellowship.We look forward to seeing you this Sunday. \nSHARE this Page via your:EmailFacebookTwitterMoreLinkedInPinterestRedditTumblr
URL:https://csumchurch.com/event/is-the-lord-really-with-us/
LOCATION:Crystal Springs United Methodist Church\, 2145 Bunker Hill Drive\, San Mateo\, CA\, 94402\, United States
CATEGORIES:Sunday
ATTACH;FMTTYPE=image/png:https://csumchurch.com/wp-content/uploads/2026/03/unnamed-4.png
END:VEVENT
BEGIN:VEVENT
DTSTART;TZID=America/Los_Angeles:20260315T100000
DTEND;TZID=America/Los_Angeles:20260315T110000
DTSTAMP:20260423T021117
CREATED:20260314T174707Z
LAST-MODIFIED:20260314T174707Z
UID:11862-1773568800-1773572400@csumchurch.com
SUMMARY:God’s Saving Works Is Revealed in You and Me
DESCRIPTION:Please join us this Sunday\, March 15th at 10:00 AM\, as we gather for worship on the Fourth Sunday of Lent. This Sunday is also UMCOR Sunday\, when we receive a special offering to support the humanitarian ministries of the United Methodist Committee on Relief (UMCOR)\, helping communities around the world respond to disasters and provide hope in times of need. We will enjoy special music as the choir sings “I Want Jesus to Walk with Me\,” with Jean Cole serving as accompanist. The scripture reading will be from John 9:1–12. Pastor Kata’i’i Tapa will share her message titled “God’s Saving Works Is Revealed in You and Me.” We hope you will join us for a meaningful time of worship\, fellowship\, and reflection as we continue our Lenten journey together. \nSHARE this Page via your:EmailFacebookTwitterMoreLinkedInPinterestRedditTumblr
URL:https://csumchurch.com/event/gods-saving-works-is-revealed-in-you-and-me/
LOCATION:Crystal Springs United Methodist Church\, 2145 Bunker Hill Drive\, San Mateo\, CA\, 94402\, United States
CATEGORIES:Sunday
ATTACH;FMTTYPE=image/png:https://csumchurch.com/wp-content/uploads/2026/03/unnamed-5.png
END:VEVENT
BEGIN:VEVENT
DTSTART;TZID=America/Los_Angeles:20260322T100000
DTEND;TZID=America/Los_Angeles:20260322T110000
DTSTAMP:20260423T021117
CREATED:20260321T041644Z
LAST-MODIFIED:20260321T041644Z
UID:11868-1774173600-1774177200@csumchurch.com
SUMMARY:Spring Worship Service
DESCRIPTION:Please join us this Sunday\, March 22 at 10:00 AM as we gather together for a beautiful spring worship service. Come and be blessed by special music from our Crystal Springs Handbell Choir\, along with Diane on the piano. We will hear the Scripture reading from John 11:1–15\, and we are honored to welcome our special guest preacher\, Taniela Fukofuka. \nWe will also continue to receive our UMCOR Special Offering to support the humanitarian ministries of the United Methodist Committee on Relief. You may give by writing a check to Crystal Springs United Methodist Church and noting UMCOR in the memo line. \nThank you for your continued support. We look forward to seeing you this Sunday as we worship and fellowship together. \nSHARE this Page via your:EmailFacebookTwitterMoreLinkedInPinterestRedditTumblr
URL:https://csumchurch.com/event/spring-worship-service/
LOCATION:Crystal Springs United Methodist Church\, 2145 Bunker Hill Drive\, San Mateo\, CA\, 94402\, United States
CATEGORIES:Sunday
ATTACH;FMTTYPE=image/png:https://csumchurch.com/wp-content/uploads/2026/03/unnamed-6.png
END:VEVENT
BEGIN:VEVENT
DTSTART;TZID=America/Los_Angeles:20260329T100000
DTEND;TZID=America/Los_Angeles:20260329T110000
DTSTAMP:20260423T021117
CREATED:20260328T042159Z
LAST-MODIFIED:20260328T042159Z
UID:11876-1774778400-1774782000@csumchurch.com
SUMMARY:The Blessing of Servanthood
DESCRIPTION:Please join us this Sunday\, March 29th at 10:00 AM at Crystal Springs United Methodist Church as we celebrate Palm Sunday Hosanna to the Highest! \nCome and enjoy special music from the choir\, with Diane Musgrave as accompanist. The scripture reading will be from Isaiah 50:4–9\, and Pastor Kata’i’i Tapa will share her message\, “The Blessing of Servanthood.” We hope you will join us for this joyful and festive Palm Sunday as we lift our praises and celebrate together. All are invited to stay after the service for fellowship. \nSHARE this Page via your:EmailFacebookTwitterMoreLinkedInPinterestRedditTumblr
URL:https://csumchurch.com/event/the-blessing-of-servanthood/
LOCATION:Crystal Springs United Methodist Church\, 2145 Bunker Hill Drive\, San Mateo\, CA\, 94402\, United States
CATEGORIES:Sunday
ATTACH;FMTTYPE=image/png:https://csumchurch.com/wp-content/uploads/2026/03/unnamed-7.png
END:VEVENT
BEGIN:VEVENT
DTSTART;TZID=America/Los_Angeles:20260412T100000
DTEND;TZID=America/Los_Angeles:20260412T110000
DTSTAMP:20260423T021117
CREATED:20260412T012150Z
LAST-MODIFIED:20260412T012150Z
UID:11881-1775988000-1775991600@csumchurch.com
SUMMARY:Happy are those who have not seen and yet believe
DESCRIPTION:Please join us this Sunday\, April 12th at 10:00 AM for a time of fellowship as we celebrate the Second Sunday of Easter. We will be blessed with special music by pianist Jeffrey Chin\, and the scripture reading will come from John 20:19–31. Pastor Kata’i’i Tapa will bring the message\, “Happy are those who have not seen and yet believe.” We hope you will join us for this meaningful time of worship and fellowship. \nSHARE this Page via your:EmailFacebookTwitterMoreLinkedInPinterestRedditTumblr
URL:https://csumchurch.com/event/happy-are-those-who-have-not-seen-and-yet-believe/
LOCATION:Crystal Springs United Methodist Church\, 2145 Bunker Hill Drive\, San Mateo\, CA\, 94402\, United States
CATEGORIES:Sunday
ATTACH;FMTTYPE=image/png:https://csumchurch.com/wp-content/uploads/2026/04/image.png
END:VEVENT
BEGIN:VEVENT
DTSTART;TZID=America/Los_Angeles:20260419T100000
DTEND;TZID=America/Los_Angeles:20260419T110000
DTSTAMP:20260423T021117
CREATED:20260419T010430Z
LAST-MODIFIED:20260419T010430Z
UID:11887-1776592800-1776596400@csumchurch.com
SUMMARY:Learning on the Road to Emmaus
DESCRIPTION:Join us this Sunday\, April 19th at 10 AM for worship as we gather together in fellowship. We will be blessed with beautiful music by Jean Cole\, our pianist\, along with Bill and the choir. The scripture reading will come from Luke 24:13–35. We are honored to have our guest speaker  ‘ELENI FAUSITINA FATIKI TU’I PO’ESE LATU’ILA JR who will share a message titled “Learning on the Road to Emmaus.” We hope you will join us this Sunday for a meaningful time of worship and fellowship. \nSHARE this Page via your:EmailFacebookTwitterMoreLinkedInPinterestRedditTumblr
URL:https://csumchurch.com/event/learning-on-the-road-to-emmaus/
LOCATION:Crystal Springs United Methodist Church\, 2145 Bunker Hill Drive\, San Mateo\, CA\, 94402\, United States
CATEGORIES:Sunday
ATTACH;FMTTYPE=image/png:https://csumchurch.com/wp-content/uploads/2026/04/unnamed-8.png
END:VEVENT
END:VCALENDAR