BEGIN:VCALENDAR
VERSION:2.0
PRODID:-//CSUMChurch - ECPv6.13.2.1//NONSGML v1.0//EN
CALSCALE:GREGORIAN
METHOD:PUBLISH
X-WR-CALNAME:CSUMChurch
X-ORIGINAL-URL:https://csumchurch.com
X-WR-CALDESC:Events for CSUMChurch
REFRESH-INTERVAL;VALUE=DURATION:PT1H
X-Robots-Tag:noindex
X-PUBLISHED-TTL:PT1H
BEGIN:VTIMEZONE
TZID:America/Los_Angeles
BEGIN:DAYLIGHT
TZOFFSETFROM:-0800
TZOFFSETTO:-0700
TZNAME:PDT
DTSTART:20240310T100000
END:DAYLIGHT
BEGIN:STANDARD
TZOFFSETFROM:-0700
TZOFFSETTO:-0800
TZNAME:PST
DTSTART:20241103T090000
END:STANDARD
END:VTIMEZONE
BEGIN:VEVENT
DTSTART;TZID=America/Los_Angeles:20240630T100000
DTEND;TZID=America/Los_Angeles:20240630T110000
DTSTAMP:20260424T005509
CREATED:20240627T024232Z
LAST-MODIFIED:20240627T024232Z
UID:11229-1719741600-1719745200@csumchurch.com
SUMMARY:Have Faith
DESCRIPTION:Come join us for worship on Sunday\, June 30th\, when Pastor Tapa will preach on the topic “Have Faith! Do Not Be Afraid; Only Believe\,” based on the Scripture in Mark 5: 21—43.  Once again we welcome jazz pianist Jeffrey Chin\, who will play his own arrangements of four hymns.  We hope you can stay for fellowship and refreshments after the service.  We would love your help as we prepare posters for our table at the Highlands Fourth of July parade.  Come join the fun on Sunday\, June 30th! \nSHARE this Page via your:EmailFacebookTwitterMoreLinkedInPinterestRedditTumblr
URL:https://csumchurch.com/event/have-faith/
LOCATION:Crystal Springs United Methodist Church\, 2145 Bunker Hill Drive\, San Mateo\, CA\, 94402\, United States
CATEGORIES:Sunday
ATTACH;FMTTYPE=image/png:https://csumchurch.com/wp-content/uploads/2024/06/Have-Faith.png
END:VEVENT
BEGIN:VEVENT
DTSTART;TZID=America/Los_Angeles:20240623T100000
DTEND;TZID=America/Los_Angeles:20240623T110000
DTSTAMP:20260424T005509
CREATED:20240622T054044Z
LAST-MODIFIED:20240622T054044Z
UID:11224-1719136800-1719140400@csumchurch.com
SUMMARY:Now is the time
DESCRIPTION:We hope that you will join us this Sunday as our pastor speaks on the topic “Now Is the Time\,” based on the Scripture 2 Corinthians 6: 1—13.   Come  experience the music of our handbell choir before their summer break.   On Sunday they will perform two pieces:  “It Is Well with My Soul” and “For the Beauty of the Earth.”   Pianist Jonathan Wing will also be on hand to play “In Christ Alone” and “How Firm a Foundation.” \n   We hope to see you for the 10 AM service on Sunday and afterwards when we gather for refreshments and fellowship in the Fireside Room. \nSHARE this Page via your:EmailFacebookTwitterMoreLinkedInPinterestRedditTumblr
URL:https://csumchurch.com/event/now-is-the-time/
LOCATION:Crystal Springs United Methodist Church\, 2145 Bunker Hill Drive\, San Mateo\, CA\, 94402\, United States
CATEGORIES:Sunday
ATTACH;FMTTYPE=image/png:https://csumchurch.com/wp-content/uploads/2024/06/Now.png
END:VEVENT
BEGIN:VEVENT
DTSTART;TZID=America/Los_Angeles:20240620T120000
DTEND;TZID=America/Los_Angeles:20240620T170000
DTSTAMP:20260424T005509
CREATED:20240614T004553Z
LAST-MODIFIED:20240614T004553Z
UID:11213-1718884800-1718902800@csumchurch.com
SUMMARY:Potluck Luncheon
DESCRIPTION:Crystal Springs UMC and the Highlands Senior Network will have a combined potluck luncheon on Thursday\, June 20th at 12:00 Noon in the CSUMC Fireside Room. Please bring something to share. After lunch we’ll be playing indoor and outdoor games. All are welcome!\n\nLet me know if you have any questions. Thank you!\nSHARE this Page via your:EmailFacebookTwitterMoreLinkedInPinterestRedditTumblr
URL:https://csumchurch.com/event/potluck-luncheon/
LOCATION:CA
ATTACH;FMTTYPE=image/png:https://csumchurch.com/wp-content/uploads/2024/06/Potluck.png
END:VEVENT
BEGIN:VEVENT
DTSTART;TZID=America/Los_Angeles:20240616T100000
DTEND;TZID=America/Los_Angeles:20240616T110000
DTSTAMP:20260424T005509
CREATED:20240614T003422Z
LAST-MODIFIED:20240615T073741Z
UID:11211-1718532000-1718535600@csumchurch.com
SUMMARY:Father's Day Service
DESCRIPTION:Welcome to Crystal Springs United Methodist Church as we observe Father’s Day and continue our journey through the season of Pentecost.  Our pastor’s sermon topic this week is “How Is Your Soul?”\, based on the Scripture in Mark 4: 26—34. \n\n\n\nCome hear the choir under the direction of Bill Alley  sing “What Wondrous Love Is This\,” a lovely anthem that will complete their season before a well-deserved summer break. \n\n\n\nAnd\, as always\, please join us for refreshments and fellowship following the service. \n\n\n\n We hope to see at 10 AM on Sunday! \nSHARE this Page via your:EmailFacebookTwitterMoreLinkedInPinterestRedditTumblr
URL:https://csumchurch.com/event/fathers-day-service/
LOCATION:Crystal Springs United Methodist Church\, 2145 Bunker Hill Drive\, San Mateo\, CA\, 94402\, United States
CATEGORIES:Sunday
ATTACH;FMTTYPE=image/png:https://csumchurch.com/wp-content/uploads/2024/06/Soul-1.png
END:VEVENT
BEGIN:VEVENT
DTSTART;VALUE=DATE:20240613
DTEND;VALUE=DATE:20240614
DTSTAMP:20260424T005509
CREATED:20240608T180023Z
LAST-MODIFIED:20240608T180023Z
UID:11202-1718236800-1718323199@csumchurch.com
SUMMARY:Little Dresses
DESCRIPTION:Once a month our Little Dresses group meets in the Fireside Room from 1—4 to work on clothing for children in developing countries.  Under the direction of Linda Litz\, we collaborate on sewing dresses and shorts\, which are sent mainly to Africa.  We divide up the work;  there is plenty to do besides sewing:  cutting\, pinning\, adding elastic…sewing skills are not required.  Please feel free to drop in to chat for a bit or stay to help out.  We laugh a lot and enjoy the fellowship of being together and working on a common service project. \n    Come join us on Thursday afternoon! \nSHARE this Page via your:EmailFacebookTwitterMoreLinkedInPinterestRedditTumblr
URL:https://csumchurch.com/event/little-dresses/
LOCATION:CA
ATTACH;FMTTYPE=image/jpeg:https://csumchurch.com/wp-content/uploads/2013/04/Little-Dresses-6-e1710200964338.jpg
END:VEVENT
BEGIN:VEVENT
DTSTART;TZID=America/Los_Angeles:20240609T100000
DTEND;TZID=America/Los_Angeles:20240609T110000
DTSTAMP:20260424T005509
CREATED:20240608T175434Z
LAST-MODIFIED:20240608T175457Z
UID:11200-1717927200-1717930800@csumchurch.com
SUMMARY:Sunday June 9th
DESCRIPTION:Please join us on Sunday\, June 9th\, at 10 AM at Crystal Springs United Methodist Church. \nWe will once again welcome jazz pianist Jeffrey Chin as our accompanist.  Jeffrey will be playing his own arrangements of three hymns as well as accompanying the choir in the anthem\, “We Shall Overcome.”  Guest speaker Sisifa Mafi will preach on the topic \n“Being a Member of Jesus’ Family is Doing His Father’s Will\, ” based on the Scripture\, \nMark 3: 20—35. \n   We hope to see you on Sunday at our service and afterwards for fellowship in the Fireside Room. \nSHARE this Page via your:EmailFacebookTwitterMoreLinkedInPinterestRedditTumblr
URL:https://csumchurch.com/event/sunday-june-9th/
LOCATION:CA
ATTACH;FMTTYPE=image/png:https://csumchurch.com/wp-content/uploads/2024/06/0C2A0570-FBDB-47CA-BDDF-2AED532E41A6.png
END:VEVENT
BEGIN:VEVENT
DTSTART;TZID=America/Los_Angeles:20240602T100000
DTEND;TZID=America/Los_Angeles:20240602T110000
DTSTAMP:20260424T005509
CREATED:20240531T060031Z
LAST-MODIFIED:20240531T060312Z
UID:11194-1717322400-1717326000@csumchurch.com
SUMMARY:"The Sabbath for Us"
DESCRIPTION:June 2 \nCome join us as we celebrate the first Sunday in June at Crystal Springs!  We will be sharing Communion—all are welcome at the Lord’s table! Pastor Tapa’s message this week is “The Sabbath for Us\, “based on the Scripture in Mark 2:23—3:6. \nJonathan Wing\, our accompanist\, will play two lovely solos and will accompany the choir in a lively arrangement of “This Little Light of Mine.” \nWe hope to see you at Crystal Springs UMC on Sunday at 10 AM! \nSHARE this Page via your:EmailFacebookTwitterMoreLinkedInPinterestRedditTumblr
URL:https://csumchurch.com/event/the-sabbath-for-us/
LOCATION:Crystal Springs United Methodist Church\, 2145 Bunker Hill Drive\, San Mateo\, CA\, 94402\, United States
CATEGORIES:Sunday
ATTACH;FMTTYPE=image/png:https://csumchurch.com/wp-content/uploads/2024/05/TheSabbathForUs.png
END:VEVENT
BEGIN:VEVENT
DTSTART;TZID=America/Los_Angeles:20240526T100000
DTEND;TZID=America/Los_Angeles:20240526T110000
DTSTAMP:20260424T005509
CREATED:20240523T040037Z
LAST-MODIFIED:20240523T040037Z
UID:11187-1716717600-1716721200@csumchurch.com
SUMMARY:Trinity Sunday
DESCRIPTION:May 26 \nOn May 26 we will gather to observe Trinity Sunday\, when we celebrate the three different ways we experience and worship God: God as Creator; Jesus who knew what it is to be human; and the Holy Spirit\, God working in us. Pastor Tapa will preach on the theme: “How Can We Be Saved from Death into Everlasting Life\,” based on the Scripture found in John 3: 1–17. Our choir under the direction of Music Director\, Bill Alley\, will sing “Holy\, Holy\, Holy Lord\, “ and as a special treat\, our handbell choir will perform two pieces: “Spirit of God\, Descend Upon My Heart\,” and “Lord\, I Want to Be a Christian.” \nWe hope that you will join us for Trinity Sunday. \nSHARE this Page via your:EmailFacebookTwitterMoreLinkedInPinterestRedditTumblr
URL:https://csumchurch.com/event/trinity-sunday/
LOCATION:Crystal Springs United Methodist Church\, 2145 Bunker Hill Drive\, San Mateo\, CA\, 94402\, United States
CATEGORIES:Sunday
ATTACH;FMTTYPE=image/png:https://csumchurch.com/wp-content/uploads/2024/05/Trinity-Sunday.png
END:VEVENT
BEGIN:VEVENT
DTSTART;TZID=America/Los_Angeles:20240519T100000
DTEND;TZID=America/Los_Angeles:20240519T110000
DTSTAMP:20260424T005509
CREATED:20240517T223257Z
LAST-MODIFIED:20240518T145404Z
UID:11141-1716112800-1716116400@csumchurch.com
SUMMARY:Pentecost
DESCRIPTION:May 19 \nCome join us as we celebrate Pentecost at Crystal Springs!  We will be wearing red to signify the fire of the Holy Spirit and the flames that appeared above the heads of the people who gathered together at the first Pentecost.  On Pentecost we also celebrate the birthday of the Church by bringing gifts such as paper towels and paper plates and cups for the use of our community.  Our choir will sing “Gracious Spirit\, Dwell in Me\,” and the congregation will join in several hymns celebrating the Holy Spirit.  Our accompanist\, Jean Cole\, has prepared several lovely pieces for this service. \nWe hope to see you at Crystal Springs UMC on Sunday at 10 AM \nSHARE this Page via your:EmailFacebookTwitterMoreLinkedInPinterestRedditTumblr
URL:https://csumchurch.com/event/pentecost/
LOCATION:Crystal Springs United Methodist Church\, 2145 Bunker Hill Drive\, San Mateo\, CA\, 94402\, United States
CATEGORIES:Sunday
ATTACH;FMTTYPE=image/png:https://csumchurch.com/wp-content/uploads/2024/05/Pentecost.png
END:VEVENT
END:VCALENDAR