BEGIN:VCALENDAR
VERSION:2.0
PRODID:-//CSUMChurch - ECPv6.13.2.1//NONSGML v1.0//EN
CALSCALE:GREGORIAN
METHOD:PUBLISH
X-WR-CALNAME:CSUMChurch
X-ORIGINAL-URL:https://csumchurch.com
X-WR-CALDESC:Events for CSUMChurch
REFRESH-INTERVAL;VALUE=DURATION:PT1H
X-Robots-Tag:noindex
X-PUBLISHED-TTL:PT1H
BEGIN:VTIMEZONE
TZID:America/Los_Angeles
BEGIN:DAYLIGHT
TZOFFSETFROM:-0800
TZOFFSETTO:-0700
TZNAME:PDT
DTSTART:20260308T100000
END:DAYLIGHT
BEGIN:STANDARD
TZOFFSETFROM:-0700
TZOFFSETTO:-0800
TZNAME:PST
DTSTART:20261101T090000
END:STANDARD
END:VTIMEZONE
BEGIN:VEVENT
DTSTART;TZID=America/Los_Angeles:20260419T100000
DTEND;TZID=America/Los_Angeles:20260419T110000
DTSTAMP:20260425T035449
CREATED:20260419T010430Z
LAST-MODIFIED:20260419T010430Z
UID:11887-1776592800-1776596400@csumchurch.com
SUMMARY:Learning on the Road to Emmaus
DESCRIPTION:Join us this Sunday\, April 19th at 10 AM for worship as we gather together in fellowship. We will be blessed with beautiful music by Jean Cole\, our pianist\, along with Bill and the choir. The scripture reading will come from Luke 24:13–35. We are honored to have our guest speaker  ‘ELENI FAUSITINA FATIKI TU’I PO’ESE LATU’ILA JR who will share a message titled “Learning on the Road to Emmaus.” We hope you will join us this Sunday for a meaningful time of worship and fellowship. \nSHARE this Page via your:EmailFacebookTwitterMoreLinkedInPinterestRedditTumblr
URL:https://csumchurch.com/event/learning-on-the-road-to-emmaus/
LOCATION:Crystal Springs United Methodist Church\, 2145 Bunker Hill Drive\, San Mateo\, CA\, 94402\, United States
CATEGORIES:Sunday
ATTACH;FMTTYPE=image/png:https://csumchurch.com/wp-content/uploads/2026/04/unnamed-8.png
END:VEVENT
BEGIN:VEVENT
DTSTART;TZID=America/Los_Angeles:20260426T100000
DTEND;TZID=America/Los_Angeles:20260426T110000
DTSTAMP:20260425T035449
CREATED:20260424T215705Z
LAST-MODIFIED:20260424T215705Z
UID:11892-1777197600-1777201200@csumchurch.com
SUMMARY:We Were Like Straying Sheep\, But Now Have Returned to the Guardian of Our Lives
DESCRIPTION:Please join us this Sunday\, April 26\, 10 am service as we gather for worship on the last Sunday of April. We will be blessed with beautiful music from Bill Alley and the choir\, along with Diane Musgrave on the piano. The scripture reading will come from 1 Peter 2:19–25. Pastor Katai’i Tapa  will share a message titled\, “We Were Like Straying Sheep\, But Now Have Returned to the Guardian of Our Lives.” We warmly invite you to join us for worship and fellowship. All are welcome. We hope to see you this Sunday. \nSHARE this Page via your:EmailFacebookTwitterMoreLinkedInPinterestRedditTumblr
URL:https://csumchurch.com/event/we-were-like-straying-sheep-but-now-have-returned-to-the-guardian-of-our-lives/
LOCATION:CA
CATEGORIES:Sunday
ATTACH;FMTTYPE=image/png:https://csumchurch.com/wp-content/uploads/2026/04/unnamed-9.png
END:VEVENT
END:VCALENDAR