BEGIN:VCALENDAR
VERSION:2.0
PRODID:-//CSUMChurch - ECPv6.13.2.1//NONSGML v1.0//EN
CALSCALE:GREGORIAN
METHOD:PUBLISH
X-WR-CALNAME:CSUMChurch
X-ORIGINAL-URL:https://csumchurch.com
X-WR-CALDESC:Events for CSUMChurch
REFRESH-INTERVAL;VALUE=DURATION:PT1H
X-Robots-Tag:noindex
X-PUBLISHED-TTL:PT1H
BEGIN:VTIMEZONE
TZID:America/Los_Angeles
BEGIN:DAYLIGHT
TZOFFSETFROM:-0800
TZOFFSETTO:-0700
TZNAME:PDT
DTSTART:20250309T100000
END:DAYLIGHT
BEGIN:STANDARD
TZOFFSETFROM:-0700
TZOFFSETTO:-0800
TZNAME:PST
DTSTART:20251102T090000
END:STANDARD
END:VTIMEZONE
BEGIN:VEVENT
DTSTART;TZID=America/Los_Angeles:20251214T100000
DTEND;TZID=America/Los_Angeles:20251214T110000
DTSTAMP:20260422T211433
CREATED:20251213T131156Z
LAST-MODIFIED:20251213T131950Z
UID:11761-1765706400-1765710000@csumchurch.com
SUMMARY:“Rejoice\, for God’s Promise for You and Me Is Forever.” 
DESCRIPTION:Please join us on December 14th at our 10 AM service as we gather for the Third Sunday of Advent\, lighting the Candle of Joy\, led by the Orecchia family. We will worship together through beautiful music\, including a flute offering by Antoinette and a special selection from our Handbell Choir. Our Scripture reading comes from Luke 1:46–55\, and Pastor Katai’i Tapa will share the message: “Rejoice\, for God’s Promise for You and Me Is Forever.” \nCome and celebrate this joyful season with us as we prepare our hearts for the coming of Christ. Join us after as we gather for fellowship. \nSHARE this Page via your:EmailFacebookTwitterMoreLinkedInPinterestRedditTumblr
URL:https://csumchurch.com/event/rejoice-for-gods-promise-for-you-and-me-is-forever/
LOCATION:Crystal Springs United Methodist Church\, 2145 Bunker Hill Drive\, San Mateo\, CA\, 94402\, United States
ATTACH;FMTTYPE=image/png:https://csumchurch.com/wp-content/uploads/2025/12/image-2.png
END:VEVENT
BEGIN:VEVENT
DTSTART;TZID=America/Los_Angeles:20251221T100000
DTEND;TZID=America/Los_Angeles:20251221T230000
DTSTAMP:20260422T211433
CREATED:20251224T195938Z
LAST-MODIFIED:20251224T195938Z
UID:11773-1766311200-1766358000@csumchurch.com
SUMMARY:The Birth of Jesus\, the Messiah
DESCRIPTION:Please join us on Sunday\, December 21st  at 10:00 am. As we gather for the Fourth Sunday of Advent\, the Sunday of Love\, led by the Faanati Family. We will worship together through special music from our choir\, hear the Scripture reading from Matthew 1:18–25\, and receive the message from Pastor Kata’i’i Tapa\, “The Birth of Jesus\, the Messiah.” We invite you to come and worship with us as we gather together as a church family and community\, celebrating the love of Christ during this Advent season. Please join us for fellowship following the service. All are welcome\, we look forward to worshiping with you. \n\nSHARE this Page via your:EmailFacebookTwitterMoreLinkedInPinterestRedditTumblr
URL:https://csumchurch.com/event/the-birth-of-jesus-the-messiah/
LOCATION:Crystal Springs United Methodist Church\, 2145 Bunker Hill Drive\, San Mateo\, CA\, 94402\, United States
CATEGORIES:Sunday
ATTACH;FMTTYPE=image/png:https://csumchurch.com/wp-content/uploads/2025/12/unnamed-2.png
END:VEVENT
BEGIN:VEVENT
DTSTART;TZID=America/Los_Angeles:20251224T190000
DTEND;TZID=America/Los_Angeles:20251224T200000
DTSTAMP:20260422T211433
CREATED:20251213T132628Z
LAST-MODIFIED:20251213T132628Z
UID:11766-1766602800-1766606400@csumchurch.com
SUMMARY:CHRISTMAS EVE CANDLELIGHT SERVICE
DESCRIPTION:We warmly invite you to join us this Christmas Eve at 7 PM for a beautiful Candlelight Service at Crystal \nSprings United Methodist Church. \nTogether\, we will celebrate the birth of Jesus through scripture readings\, the singing of beloved Christmas ca-rols\, and a heartwarming children’s skit presented by our Sunday School as they share the joy of the season. \nFollowing the service\, we welcome everyone to stay for a time of fellowship\, cookies\, and warm community as we gather in celebration of Christ’s coming. \nWe look forward to sharing this blessed evening with you and your loved ones\, All are welcome-come experience the light\, hope\, and joy of Christmas with us. \n2145 BUNKER HILL DR.\, SAN MATEO CA 94402 \nSHARE this Page via your:EmailFacebookTwitterMoreLinkedInPinterestRedditTumblr
URL:https://csumchurch.com/event/christmas-eve-candlelight-service/
LOCATION:Crystal Springs United Methodist Church\, 2145 Bunker Hill Drive\, San Mateo\, CA\, 94402\, United States
ATTACH;FMTTYPE=image/png:https://csumchurch.com/wp-content/uploads/2025/12/CF18CA92-818D-4656-8B41-208CF9AF3739-1.png
END:VEVENT
BEGIN:VEVENT
DTSTART;TZID=America/Los_Angeles:20251224T190000
DTEND;TZID=America/Los_Angeles:20251224T200000
DTSTAMP:20260422T211433
CREATED:20251225T021231Z
LAST-MODIFIED:20251225T021231Z
UID:11779-1766602800-1766606400@csumchurch.com
SUMMARY:Christmas Eve Festival of Lesson
DESCRIPTION:You are warmly invited to join us on December 24th at 7pm for our Christmas Eve Festival of Lesson and carols service. Come celebrate the joy of Christ’s birth through beautiful carols\, inspiring scripture readings\, and a special Sunday school pageant. Following the service\, please stay and enjoy hot chocolate and cookies as we continue the fellowship together. \nSHARE this Page via your:EmailFacebookTwitterMoreLinkedInPinterestRedditTumblr
URL:https://csumchurch.com/event/christmas-eve-festival-of-lesson/
LOCATION:Crystal Springs United Methodist Church\, 2145 Bunker Hill Drive\, San Mateo\, CA\, 94402\, United States
CATEGORIES:Sunday
ATTACH;FMTTYPE=image/png:https://csumchurch.com/wp-content/uploads/2025/12/unnamed-3.png
END:VEVENT
BEGIN:VEVENT
DTSTART;TZID=America/Los_Angeles:20251228T100000
DTEND;TZID=America/Los_Angeles:20251228T110000
DTSTAMP:20260422T211433
CREATED:20260115T221229Z
LAST-MODIFIED:20260115T221229Z
UID:11792-1766916000-1766919600@csumchurch.com
SUMMARY:Listening to God’s Word: His Guidance and Leadership Save Us in 2025
DESCRIPTION:Please join us this Sunday\, December 28th\, at 10:00 AM for worship as we gather together after Christmas. We will be blessed by special music\, “O Come\, All Ye Faithful\,” beautifully played by Jeffrey Chen on the piano. Our scripture reading will come from Matthew 2:13–23. Pastor Kata’i’i Tapa will share the message\, “Listening to God’s Word: His Guidance and Leadership Save Us in 2025.” This message will encourage us as we look ahead with faith\, trust\, and hope in God’s leading for the new year. Following the service\, please stay and join us for a time of fellowship together as a church family.We look forward to worshiping with you and hope to see you on Sunday. \nSHARE this Page via your:EmailFacebookTwitterMoreLinkedInPinterestRedditTumblr
URL:https://csumchurch.com/event/listening-to-gods-word-his-guidance-and-leadership-save-us-in-2025/
LOCATION:Crystal Springs United Methodist Church\, 2145 Bunker Hill Drive\, San Mateo\, CA\, 94402\, United States
CATEGORIES:Sunday
ATTACH;FMTTYPE=image/png:https://csumchurch.com/wp-content/uploads/2026/01/Thwarted.png
END:VEVENT
END:VCALENDAR